BEGIN:VCALENDAR
VERSION:2.0
PRODID:-//Project Finding Calcutta - ECPv6.15.20//NONSGML v1.0//EN
CALSCALE:GREGORIAN
METHOD:PUBLISH
X-ORIGINAL-URL:https://projectfindingcalcutta.com
X-WR-CALDESC:Events for Project Finding Calcutta
REFRESH-INTERVAL;VALUE=DURATION:PT1H
X-Robots-Tag:noindex
X-PUBLISHED-TTL:PT1H
BEGIN:VTIMEZONE
TZID:America/Chicago
BEGIN:DAYLIGHT
TZOFFSETFROM:-0600
TZOFFSETTO:-0500
TZNAME:CDT
DTSTART:20230312T080000
END:DAYLIGHT
BEGIN:STANDARD
TZOFFSETFROM:-0500
TZOFFSETTO:-0600
TZNAME:CST
DTSTART:20231105T070000
END:STANDARD
BEGIN:DAYLIGHT
TZOFFSETFROM:-0600
TZOFFSETTO:-0500
TZNAME:CDT
DTSTART:20240310T080000
END:DAYLIGHT
BEGIN:STANDARD
TZOFFSETFROM:-0500
TZOFFSETTO:-0600
TZNAME:CST
DTSTART:20241103T070000
END:STANDARD
BEGIN:DAYLIGHT
TZOFFSETFROM:-0600
TZOFFSETTO:-0500
TZNAME:CDT
DTSTART:20250309T080000
END:DAYLIGHT
BEGIN:STANDARD
TZOFFSETFROM:-0500
TZOFFSETTO:-0600
TZNAME:CST
DTSTART:20251102T070000
END:STANDARD
END:VTIMEZONE
BEGIN:VEVENT
DTSTART;TZID=America/Chicago:20240302T080000
DTEND;TZID=America/Chicago:20240302T120000
DTSTAMP:20260425T130702
CREATED:20240227T210811Z
LAST-MODIFIED:20240227T211141Z
UID:7409-1709366400-1709380800@projectfindingcalcutta.com
SUMMARY:Fort Worth Volunteers @ SEAS
DESCRIPTION:NOTE: This service event is open only to the men of SEAS parish.Would you like to make a difference? Are you looking for service opportunities? \n\n\n\nJoin us for a half day to serve the poorest of the poor in the spirit of Mother Teresa. We will begin with fellowship and prayer at 8:00 a.m. and then separate into smaller groups to go comfort the elderly at nursing homes and do homeless ministry to our friends on the streets. Even though we serve till Noon\, you are free to leave early. \n\n\n\nEveryone that is planning to attend must RSVP here\, so we can let the places of service know how many people to expect. Also\, you are expected to already have the Safe Environment clearance. Like Mother Teresa said\, “let us do something beautiful for God.” \n\n\n\nINSTRUCTIONS:1. If this is your first time volunteering with us\, please Register here. \n\n\n\n2. Meet us at the Church. \n\n\n\n3. This is where it begins but most of you will go to different locations after the fellowship\, orientation\, and prayer\, so don’t be late. \n\n\n\n4. Not everyone will work in a soup kitchen or in a garden\, but please dress (casual) to be able to work wherever the need maybe. \n\n\n\n5. By serving with us\, you are agreeing to these terms and conditions (Liability Waiver). Everyone under 18 attending with a chaperone should print the Liability Waiver and have it signed by the parent before coming to the event. \n\n\n\n6. Please do not go directly to the service locations\, out of respect for our collaborators\, our legal guidelines\, and your own safety. \n\n\n\n7. Please like us on Facebook\, follow us on Instagram\, and join GroupMe to be notified about upcoming events.
URL:https://projectfindingcalcutta.com/volunteer/fort-worth-seas-4/
LOCATION:St Elizabeth Ann Seton Catholic Church\, 2016 Willis Lane\, Keller\, TX\, 76248\, United States
CATEGORIES:DFW,Fort Worth
END:VEVENT
BEGIN:VEVENT
DTSTART;TZID=America/Chicago:20240302T090000
DTEND;TZID=America/Chicago:20240302T120000
DTSTAMP:20260425T130702
CREATED:20231127T204211Z
LAST-MODIFIED:20231127T204212Z
UID:6551-1709370000-1709380800@projectfindingcalcutta.com
SUMMARY:Dallas Volunteers @ Cistercian (students ONLY)
DESCRIPTION:Would you like to make a difference? Are you looking for service opportunities? \n\n\n\nJoin us for a half day to serve the poorest of the poor in the spirit of Mother Teresa. We will begin with fellowship and prayer at 9 a.m. and then separate into smaller groups to go comfort the elderly at nursing homes or do garden work for them\, help the Missionaries of Charity sisters in assisting low income families\, make lunch and serve at homeless shelters\, organize items at food pantries\, and/or feed the homeless on the streets. We usually finish around Noon. \n\n\n\nEveryone that is planning to attend must RSVP here\, so we can let the places of service know how many people to expect. Like Mother Teresa said\, “let us do something beautiful for God.” \n\n\n\nINSTRUCTIONS:1. If this is your first time volunteering with us\, please Register here first. Then RSVP below. \n\n\n\n2. Meet us in the lunch hall. More instructions will come via email later. \n\n\n\n3. This is where it begins but most of you will go to different locations after the fellowship\, orientation\, and prayer\, so don’t be late. \n\n\n\n4. Not everyone will work in a soup kitchen or in a garden\, but please dress (casual) to be able to work wherever the need maybe. \n\n\n\n5. By serving with us\, you are agreeing to these terms and conditions (Liability Waiver). Everyone under 18 attending without a parent but with a chaperone should print the Liability Waiver and have it signed by the parent before coming to the event. \n\n\n\n6. Please do not go directly to the service locations\, out of respect for our collaborators\, our legal guidelines\, and your own safety. \n\n\n\n7. Please like us on Facebook\, follow us on Instagram\, and join GroupMe to be notified about upcoming events.
URL:https://projectfindingcalcutta.com/volunteer/dallas-cistercian/
LOCATION:Cistercian Prep School\, 3660 Cistercian Rd\, Irving\, Texas\, 75039
CATEGORIES:Dallas,DFW
END:VEVENT
BEGIN:VEVENT
DTSTART;TZID=America/Chicago:20240309T090000
DTEND;TZID=America/Chicago:20240309T120000
DTSTAMP:20260425T130702
CREATED:20230427T195301Z
LAST-MODIFIED:20230817T191705Z
UID:5033-1709974800-1709985600@projectfindingcalcutta.com
SUMMARY:Dallas Volunteers @ St Joseph’s
DESCRIPTION:Would you like to make a difference? Are you looking for service opportunities? \n\n\n\nJoin us for a half day to serve the poorest of the poor in the spirit of Mother Teresa. We will begin with fellowship and prayer at 9 a.m. and then separate into smaller groups to go comfort the elderly at nursing homes or do garden work for them\, help the Missionaries of Charity sisters in assisting low income families\, make lunch and serve at homeless shelters\, organize items at food pantries\, and/or feed the homeless on the streets. We usually finish around Noon\, but there will be lunch (optional) afterwards. \n\n\n\nThis is a family friendly event. Everyone that is planning to attend must RSVP here\, so we can let the places of service know how many people to expect. Like Mother Teresa said\, “let us do something beautiful for God.” \n\n\n\nINSTRUCTIONS:1. If this is your first time volunteering with us\, please Register here. \n\n\n\n2. Meet us in room # 152. Please consider attending 8 a.m. Mass beforehand if you could. \n\n\n\n3. This is where it begins but most of you will go to different locations after the fellowship\, orientation\, and prayer\, so don’t be late. \n\n\n\n4. Not everyone will work in a soup kitchen or in a garden\, but please dress (casual) to be able to work wherever the need maybe. \n\n\n\n5. By serving with us\, you are agreeing to these terms and conditions (Liability Waiver). Everyone under 18 attending with a chaperone should print the Liability Waiver and have it signed by the parent before coming to the event. \n\n\n\n6. Please do not go directly to the service locations\, out of respect for our collaborators\, our legal guidelines\, and your own safety. \n\n\n\n7. Please like us on Facebook\, follow us on Instagram\, and join GroupMe to be notified about upcoming events.
URL:https://projectfindingcalcutta.com/volunteer/dallas-st-josephs-5/
LOCATION:St. Joseph Catholic Church\, 600 S Jupiter Rd\, Richardson\, TX\, 75081\, United States
CATEGORIES:Dallas,DFW
ATTACH;FMTTYPE=image/png:https://projectfindingcalcutta.com/wp-content/uploads/2023/04/PFC-at-St-Joseph.png
END:VEVENT
BEGIN:VEVENT
DTSTART;TZID=America/Chicago:20240316T090000
DTEND;TZID=America/Chicago:20240316T123000
DTSTAMP:20260425T130702
CREATED:20230504T153928Z
LAST-MODIFIED:20230504T153929Z
UID:5125-1710579600-1710592200@projectfindingcalcutta.com
SUMMARY:Dallas Volunteers @ St Gabriel’s
DESCRIPTION:Would you like to make a difference? Are you looking for service opportunities? \n\n\n\nJoin us for a half day to serve the poorest of the poor in the spirit of Mother Teresa. We will begin with fellowship and prayer at 9 a.m. and then separate into smaller groups to go comfort the elderly at nursing homes or do garden work for them\, help the Missionaries of Charity sisters in assisting low income families\, make lunch and serve at homeless shelters\, organize items at food pantries\, and/or feed the homeless on the streets. We usually finish around 12:30 p.m.\, but there will be lunch (optional) afterwards. \n\n\n\nThis is a family friendly event. Everyone that is planning to attend must RSVP here\, so we can let the places of service know how many people to expect. Like Mother Teresa said\, “let us do something beautiful for God.” \n\n\n\nINSTRUCTIONS:1. If this is your first time volunteering with us\, please Register here. \n\n\n\n2. Meet us at the Parish hall/gym. There will be signs. \n\n\n\n3. This is where it begins but most of you will go to different locations after the fellowship\, orientation\, and prayer\, so don’t be late. \n\n\n\n4. Not everyone will work in a soup kitchen or in a garden\, but please dress (casual) to be able to work wherever the need maybe. \n\n\n\n5. By serving with us\, you are agreeing to these terms and conditions (Liability Waiver). Everyone under 18 attending with a chaperone should print the Liability Waiver and have it signed by the parent before coming to the event. \n\n\n\n6. Please do not go directly to the service locations\, out of respect for our collaborators\, our legal guidelines\, and your own safety. \n\n\n\n7. Please like us on Facebook\, follow us on Instagram\, and join GroupMe to be notified about upcoming events.
URL:https://projectfindingcalcutta.com/volunteer/dallas-st-gabriels-7/
LOCATION:St Gabriel the Archangel Catholic Community\, 110 St Gabriel Way\, McKinney\, TX\, 75071\, United States
CATEGORIES:Dallas,DFW
ATTACH;FMTTYPE=image/jpeg:https://projectfindingcalcutta.com/wp-content/uploads/2023/05/St-Gabriel-Service-Saturday.jpeg
END:VEVENT
BEGIN:VEVENT
DTSTART;TZID=America/Chicago:20240317T123000
DTEND;TZID=America/Chicago:20240317T163000
DTSTAMP:20260425T130702
CREATED:20240108T213920Z
LAST-MODIFIED:20240108T213921Z
UID:6782-1710678600-1710693000@projectfindingcalcutta.com
SUMMARY:Leisure Lord's Day
DESCRIPTION:Join us for an UNPLUGGED afternoon to enjoy the Lord’s Day. Disconnect yourself from the busyness of life and experience joy as you relax. We are a tired generation. We need to relearn the art of leisure. \n\n\n\nPFC invites you to enjoy a delicious lunch (provided)\, play games\, chat\, pray and relax with one another’s company. We only have 2 rules. We commit to the whole afternoon. And we leave our cellphones on the kitchen counter. Feel free to bring special beverages\, but not required. \n\n\n\nSpots are limited because we are intentionally keeping these events smaller and you will be able to RSVP on first come first served basis. Registration will close when all the spots are filled. The venue will be confirmed the day before the event .
URL:https://projectfindingcalcutta.com/volunteer/leisure-lords-day-3/
LOCATION:Texas
CATEGORIES:Dallas,DFW,Fort Worth
ATTACH;FMTTYPE=image/jpeg:https://projectfindingcalcutta.com/wp-content/uploads/2023/10/Lords-day-Leisure.jpeg
END:VEVENT
BEGIN:VEVENT
DTSTART;TZID=America/Chicago:20240323T090000
DTEND;TZID=America/Chicago:20240323T120000
DTSTAMP:20260425T130702
CREATED:20240116T234042Z
LAST-MODIFIED:20240116T234044Z
UID:6862-1711184400-1711195200@projectfindingcalcutta.com
SUMMARY:Dallas Volunteers @ University of Dallas
DESCRIPTION:Would you like to make a difference? Are you looking for service opportunities? \n\n\n\nJoin us for a half day to serve the poorest of the poor in the spirit of Mother Teresa. We will begin with check-in\, fellowship\, and prayer at 9 a.m. and then separate into smaller groups to go comfort the elderly at nursing homes or do garden work for them\, help the Missionaries of Charity sisters in assisting low income families\, make lunch and serve at homeless shelters\, organize items at food pantries\, and/or feed the homeless on the streets. We usually finish around Noon\, but there will be lunch (optional) afterwards. \n\n\n\nThis is a family friendly event. Everyone that is planning to attend must RSVP here\, so we can let the places of service know how many people to expect. Like Mother Teresa said\, “let us do something beautiful for God.” \n\n\n\nINSTRUCTIONS:1. If this is your first time with us\, please complete the New Volunteer Registration. \n\n\n\n2. Meet us at the Tower on Campus. \n\n\n\n3. This is where it begins but most of you will go to different locations after the fellowship\, orientation\, and prayer\, so don’t be late. \n\n\n\n4. Not everyone will work in a soup kitchen or in a garden\, but please dress (casual) to be able to work wherever the need maybe. \n\n\n\n5. By serving with us\, you are agreeing to these terms and conditions (Liability Waiver). Everyone under 18 attending with a chaperone should print the Liability Waiver and have it signed by the parent before coming to the event. \n\n\n\n6. Please do not go directly to the service locations\, out of respect for our collaborators\, our legal guidelines\, and your own safety. \n\n\n\n7. Please like us on Facebook\, follow us on Instagram\, and join GroupMe to be notified about upcoming events.
URL:https://projectfindingcalcutta.com/volunteer/dallas-university-of-dallas-2/
LOCATION:University of Dallas\, 1845 E Northgate Drive\, Irving\, TX\, 75062\, United States
CATEGORIES:Dallas,DFW
ATTACH;FMTTYPE=image/jpeg:https://projectfindingcalcutta.com/wp-content/uploads/2023/01/UD-Service-Saturday.jpeg
END:VEVENT
BEGIN:VEVENT
DTSTART;TZID=America/Chicago:20240323T090000
DTEND;TZID=America/Chicago:20240323T123000
DTSTAMP:20260425T130702
CREATED:20230504T154344Z
LAST-MODIFIED:20230504T154344Z
UID:5129-1711184400-1711197000@projectfindingcalcutta.com
SUMMARY:Dallas Volunteers @ St Gabriel’s
DESCRIPTION:Would you like to make a difference? Are you looking for service opportunities? \n\n\n\nJoin us for a half day to serve the poorest of the poor in the spirit of Mother Teresa. We will begin with fellowship and prayer at 9 a.m. and then separate into smaller groups to go comfort the elderly at nursing homes or do garden work for them\, help the Missionaries of Charity sisters in assisting low income families\, make lunch and serve at homeless shelters\, organize items at food pantries\, and/or feed the homeless on the streets. We usually finish around 12:30 p.m.\, but there will be lunch (optional) afterwards. \n\n\n\nThis is a family friendly event. Everyone that is planning to attend must RSVP here\, so we can let the places of service know how many people to expect. Like Mother Teresa said\, “let us do something beautiful for God.” \n\n\n\nINSTRUCTIONS:1. If this is your first time volunteering with us\, please Register here. \n\n\n\n2. Meet us at the Parish hall/gym. There will be signs. \n\n\n\n3. This is where it begins but most of you will go to different locations after the fellowship\, orientation\, and prayer\, so don’t be late. \n\n\n\n4. Not everyone will work in a soup kitchen or in a garden\, but please dress (casual) to be able to work wherever the need maybe. \n\n\n\n5. By serving with us\, you are agreeing to these terms and conditions (Liability Waiver). Everyone under 18 attending with a chaperone should print the Liability Waiver and have it signed by the parent before coming to the event. \n\n\n\n6. Please do not go directly to the service locations\, out of respect for our collaborators\, our legal guidelines\, and your own safety. \n\n\n\n7. Please like us on Facebook\, follow us on Instagram\, and join GroupMe to be notified about upcoming events.
URL:https://projectfindingcalcutta.com/volunteer/dallas-st-gabriels-8/
LOCATION:St Gabriel the Archangel Catholic Community\, 110 St Gabriel Way\, McKinney\, TX\, 75071\, United States
CATEGORIES:Dallas,DFW
ATTACH;FMTTYPE=image/jpeg:https://projectfindingcalcutta.com/wp-content/uploads/2023/05/St-Gabriel-Service-Saturday.jpeg
END:VEVENT
BEGIN:VEVENT
DTSTART;TZID=America/Chicago:20240330T090000
DTEND;TZID=America/Chicago:20240330T120000
DTSTAMP:20260425T130702
CREATED:20240108T191247Z
LAST-MODIFIED:20240326T195845Z
UID:6756-1711789200-1711800000@projectfindingcalcutta.com
SUMMARY:Dallas Volunteers @ Mater Dei
DESCRIPTION:Would you like to make a difference? Are you looking for service opportunities? \n\n\n\nJoin us for a half day to serve the poorest of the poor in the spirit of Mother Teresa. We will begin with check-in\, fellowship\, and prayer at 9 a.m. and then separate into smaller groups to go comfort the elderly at nursing homes or do garden work for them\, help the Missionaries of Charity sisters in assisting low income families\, make lunch and serve at homeless shelters\, organize items at food pantries\, and/or feed the homeless on the streets. We usually finish around Noon\, but there will be lunch (optional) afterwards. \n\n\n\nThis is a family friendly event. Everyone that is planning to attend must RSVP here\, so we can let the places of service know how many people to expect. Like Mother Teresa said\, “let us do something beautiful for God.” \n\n\n\nINSTRUCTIONS:1. If this is your first time with us\, please complete the New Volunteer Registration. \n\n\n\n2. Meet us in the parking lot. \n\n\n\n3. This is where it begins but most of you will go to different locations after the fellowship\, orientation\, and prayer\, so don’t be late. \n\n\n\n4. Not everyone will work in a soup kitchen or in a garden\, but please dress (casual) to be able to work wherever the need maybe. \n\n\n\n5. By serving with us\, you are agreeing to these terms and conditions (Liability Waiver). Everyone under 18 attending with a chaperone should print the Liability Waiver and have it signed by the parent before coming to the event. \n\n\n\n6. Please do not go directly to the service locations\, out of respect for our collaborators\, our legal guidelines\, and your own safety. \n\n\n\n7. Please like us on Facebook\, follow us on Instagram\, and join GroupMe to be notified about upcoming events.
URL:https://projectfindingcalcutta.com/volunteer/dallas-mater-dei-7/
LOCATION:Mater Dei Catholic Church\, 2030 East State Highway 356\, Irving\, TX\, 75060\, United States
CATEGORIES:Dallas,DFW
ATTACH;FMTTYPE=image/png:https://projectfindingcalcutta.com/wp-content/uploads/2023/04/PFC-Mater-Dei.png
END:VEVENT
BEGIN:VEVENT
DTSTART;TZID=America/Chicago:20240330T093000
DTEND;TZID=America/Chicago:20240330T160000
DTSTAMP:20260425T130702
CREATED:20240308T040014Z
LAST-MODIFIED:20240322T222157Z
UID:7575-1711791000-1711814400@projectfindingcalcutta.com
SUMMARY:Regnum Christi - Holy Week Family Missions
DESCRIPTION:Project Finding Calcutta is privileged to assist Regnum Christi with their Holy Week Family Missions! \n\n\n\nRegnum Christi families with children of all ages are welcome to serve the poorest of the poor in the spirit of Mother Teresa. We will begin at 9:30 a.m. and then separate into smaller groups to go comfort the elderly at nursing homes or do garden work for them\, help the Missionaries of Charity sisters in assisting low income families\, make lunch and serve at homeless shelters\, organize items at food pantries\, and/or feed the homeless on the streets. The afternoon shift is OPTIONAL. \n\n\n\nEveryone that is planning to attend must RSVP here\, so we can let the places of service know how many people to expect. Like Mother Teresa said\, “let us do something beautiful for God.” \n\n\n\nINSTRUCTIONS:1. If this is your first time volunteering with us\, please Register here. \n\n\n\n2. Meet us at the Church. \n\n\n\n3. This is where it begins but most of you will go to different locations after the fellowship\, orientation\, and prayer\, so don’t be late. \n\n\n\n4. Not everyone will work in a soup kitchen or in a garden\, but please dress (casual) to be able to work wherever the need maybe. \n\n\n\n5. By serving with us\, you are agreeing to these terms and conditions (Liability Waiver). Everyone under 18 attending with a chaperone should print the Liability Waiver and have it signed by the parent before coming to the event. \n\n\n\n6. Please do not go directly to the service locations\, out of respect for our collaborators\, our legal guidelines\, and your own safety. \n\n\n\n7. Please like us on Facebook\, follow us on Instagram\, connect with us on LinkedIn\, and join GroupMe to be notified about upcoming events.
URL:https://projectfindingcalcutta.com/volunteer/dallas-regnum-christi-2/
LOCATION:St. Cecilia Catholic Church\, 1809 W Davis St\,\, Dallas\, Texas\, 75208
CATEGORIES:Dallas,DFW
ATTACH;FMTTYPE=image/png:https://projectfindingcalcutta.com/wp-content/uploads/2024/03/Regnum-Christi-Holy-Week-Missions.png
END:VEVENT
END:VCALENDAR