BEGIN:VCALENDAR
VERSION:2.0
PRODID:-//Project Finding Calcutta - ECPv6.15.20//NONSGML v1.0//EN
CALSCALE:GREGORIAN
METHOD:PUBLISH
X-ORIGINAL-URL:https://projectfindingcalcutta.com
X-WR-CALDESC:Events for Project Finding Calcutta
REFRESH-INTERVAL;VALUE=DURATION:PT1H
X-Robots-Tag:noindex
X-PUBLISHED-TTL:PT1H
BEGIN:VTIMEZONE
TZID:America/Chicago
BEGIN:DAYLIGHT
TZOFFSETFROM:-0600
TZOFFSETTO:-0500
TZNAME:CDT
DTSTART:20230312T080000
END:DAYLIGHT
BEGIN:STANDARD
TZOFFSETFROM:-0500
TZOFFSETTO:-0600
TZNAME:CST
DTSTART:20231105T070000
END:STANDARD
BEGIN:DAYLIGHT
TZOFFSETFROM:-0600
TZOFFSETTO:-0500
TZNAME:CDT
DTSTART:20240310T080000
END:DAYLIGHT
BEGIN:STANDARD
TZOFFSETFROM:-0500
TZOFFSETTO:-0600
TZNAME:CST
DTSTART:20241103T070000
END:STANDARD
BEGIN:DAYLIGHT
TZOFFSETFROM:-0600
TZOFFSETTO:-0500
TZNAME:CDT
DTSTART:20250309T080000
END:DAYLIGHT
BEGIN:STANDARD
TZOFFSETFROM:-0500
TZOFFSETTO:-0600
TZNAME:CST
DTSTART:20251102T070000
END:STANDARD
END:VTIMEZONE
BEGIN:VEVENT
DTSTART;TZID=America/Chicago:20240504T090000
DTEND;TZID=America/Chicago:20240504T120000
DTSTAMP:20260425T070511
CREATED:20240325T204950Z
LAST-MODIFIED:20240326T170100Z
UID:7724-1714813200-1714824000@projectfindingcalcutta.com
SUMMARY:Dallas Volunteers @ Missionaries of Charity
DESCRIPTION:Would you like to make a difference? Are you looking for service opportunities? \n\n\n\nJoin us for a half day to serve the poorest of the poor in the spirit of Mother Teresa. We will begin with fellowship\, prayer\, and the orientation\, and then we separate into smaller groups to go comfort the elderly at nursing homes or do garden work for them\, help the Missionaries of Charity sisters in assisting low income families or homeless pregnant women\, make lunch and serve at soup kitchens\, organize items at food pantries\, and/or feed the homeless on the streets. \n\n\n\nWe usually finish around Noon\, and continue the fellowship by grabbing lunch together afterwards (optional). \n\n\n\nThis is a family friendly event\, so children of all ages are welcome. We encourage everyone to RSVP here\, so we can let the places of service know how many people to expect. Like Mother Teresa said\, “let us do something beautiful for God.” \n\n\n\nINSTRUCTIONS: \n\n\n\n1. LOCATION: Please meet us in the parking lot. \n\n\n\n2. PROJECTS: The event begins at the location below but most of you will go to different service sites after the orientation\, so please don’t be late. \n\n\n\n3. NEW VOLUNTEERS: serving with us for the first-time\, please Register here before RSVPing to this event. Every one/family must sign these waivers before volunteering. \n\n\n\n4. GROUPS: Please send us a message before bringing 10+ volunteers from your group. \n\n\n\n5. MINORS: By serving with us\, everyone is agreeing to these terms and conditions (Liability Waiver). Everyone under 18 attending with a chaperone (without a parent) should print the Liability Waiver and have it signed by the parent BEFORE coming to the event\, and please present it to the Leader as soon as you arrive. \n\n\n\n6. DRESS CODE: Not everyone will serve soup from a kitchen or dig dirt for a garden\, but please dress (casual) to be able to work wherever the need maybe. \n\n\n\n7. PLEASE DO NOT go directly to the service locations\, out of respect for our collaborators\, our legal guidelines\, and for your own safety. \n\n\n\n8. FOLLOW US on Facebook\, Instagram\, LinkedIn and GroupMe to be notified about the upcoming events.
URL:https://projectfindingcalcutta.com/volunteer/dallas-missionaries-of-charity-28/
LOCATION:Missionaries of Charity\, 2727 Harlandale Ave\, Dallas\, TX\, 75216\, United States
CATEGORIES:Dallas,DFW
ATTACH;FMTTYPE=image/jpeg:https://projectfindingcalcutta.com/wp-content/uploads/2023/05/Service-Saturday-MC.jpeg
END:VEVENT
BEGIN:VEVENT
DTSTART;TZID=America/Chicago:20240511T090000
DTEND;TZID=America/Chicago:20240511T123000
DTSTAMP:20260425T070511
CREATED:20230504T154712Z
LAST-MODIFIED:20230504T154713Z
UID:5132-1715418000-1715430600@projectfindingcalcutta.com
SUMMARY:Dallas Volunteers @ St Gabriel’s
DESCRIPTION:Would you like to make a difference? Are you looking for service opportunities? \n\n\n\nJoin us for a half day to serve the poorest of the poor in the spirit of Mother Teresa. We will begin with fellowship and prayer at 9 a.m. and then separate into smaller groups to go comfort the elderly at nursing homes or do garden work for them\, help the Missionaries of Charity sisters in assisting low income families\, make lunch and serve at homeless shelters\, organize items at food pantries\, and/or feed the homeless on the streets. We usually finish around 12:30 p.m.\, but there will be lunch (optional) afterwards. \n\n\n\nThis is a family friendly event. Everyone that is planning to attend must RSVP here\, so we can let the places of service know how many people to expect. Like Mother Teresa said\, “let us do something beautiful for God.” \n\n\n\nINSTRUCTIONS:1. If this is your first time volunteering with us\, please Register here. \n\n\n\n2. Meet us at the Parish hall/gym. There will be signs. \n\n\n\n3. This is where it begins but most of you will go to different locations after the fellowship\, orientation\, and prayer\, so don’t be late. \n\n\n\n4. Not everyone will work in a soup kitchen or in a garden\, but please dress (casual) to be able to work wherever the need maybe. \n\n\n\n5. By serving with us\, you are agreeing to these terms and conditions (Liability Waiver). Everyone under 18 attending with a chaperone should print the Liability Waiver and have it signed by the parent before coming to the event. \n\n\n\n6. Please do not go directly to the service locations\, out of respect for our collaborators\, our legal guidelines\, and your own safety. \n\n\n\n7. Please like us on Facebook\, follow us on Instagram\, and join GroupMe to be notified about upcoming events.
URL:https://projectfindingcalcutta.com/volunteer/dallas-st-gabriels-9/
LOCATION:St Gabriel the Archangel Catholic Community\, 110 St Gabriel Way\, McKinney\, TX\, 75071\, United States
CATEGORIES:Dallas,DFW
ATTACH;FMTTYPE=image/jpeg:https://projectfindingcalcutta.com/wp-content/uploads/2023/05/St-Gabriel-Service-Saturday.jpeg
END:VEVENT
BEGIN:VEVENT
DTSTART;TZID=America/Chicago:20240511T093000
DTEND;TZID=America/Chicago:20240511T120000
DTSTAMP:20260425T070511
CREATED:20240509T031438Z
LAST-MODIFIED:20240509T031439Z
UID:8289-1715419800-1715428800@projectfindingcalcutta.com
SUMMARY:Dallas Volunteers - Mother's Day Special
DESCRIPTION:Would you like to make a difference? Are you looking for service opportunities? \n\n\n\nAll are welcome. Join us for a half day to serve the poorest of the poor in the spirit of Mother Teresa. This service event is going to be different from our usual Service Saturdays. We are partnering with a local nursing home to give a special treatment to the cute old ladies\, honoring them for Mother’s Day. Please RSVP below. \n\n\n\nLike Mother Teresa said\, “let us do something beautiful for God.” \n\n\n\nINSTRUCTIONS: \n\n\n\n1. LOCATION: Please meet us at UD Tower. Please consider attending the 9 AM Mass at the chapel on Campus. \n\n\n\n2. PROJECTS: The event begins at the location below but most of you will go to different service sites after the orientation\, so please don’t be late. \n\n\n\n3. NEW VOLUNTEERS: serving with us for the first-time\, please Register here before RSVPing to this event. Everyone must sign these waivers before volunteering\, unless you come as family in which case one waiver per family is sufficient. \n\n\n\n4. GROUPS: Please send us a message before bringing 10+ volunteers from your group. \n\n\n\n5. MINORS: By serving with us\, everyone is agreeing to these terms and conditions (Liability Waiver). Everyone under 18 attending with a chaperone (without a parent) should print the Liability Waiver and have it signed by the parent BEFORE coming to the event\, and please present it to the Leader as soon as you arrive. \n\n\n\n6. DRESS CODE: Not everyone will serve soup from a kitchen or dig dirt for a garden\, but please dress (casual) to be able to work wherever the need maybe. \n\n\n\n7. PLEASE DO NOT go directly to the service locations\, out of respect for our collaborators\, our legal guidelines\, and for your own safety. \n\n\n\n8. FOLLOW US on Facebook\, Instagram\, LinkedIn and GroupMe to be notified about the upcoming events.
URL:https://projectfindingcalcutta.com/volunteer/dallas-university-of-dallas-4/
LOCATION:University of Dallas\, 1845 E Northgate Drive\, Irving\, TX\, 75062\, United States
CATEGORIES:Dallas,DFW
ATTACH;FMTTYPE=image/jpeg:https://projectfindingcalcutta.com/wp-content/uploads/2023/01/UD-Service-Saturday.jpeg
END:VEVENT
BEGIN:VEVENT
DTSTART;TZID=America/Chicago:20240518T090000
DTEND;TZID=America/Chicago:20240518T120000
DTSTAMP:20260425T070511
CREATED:20240307T232006Z
LAST-MODIFIED:20240307T232304Z
UID:7557-1716022800-1716033600@projectfindingcalcutta.com
SUMMARY:Dallas Volunteers @ St Joseph Vietnamese
DESCRIPTION:Would you like to make a difference? Are you looking for service opportunities? \n\n\n\nJoin us for a half day to serve the poorest of the poor in the spirit of Mother Teresa. We will begin with fellowship and prayer at 9 a.m. and then separate into smaller groups to go comfort the elderly at nursing homes or do garden work for them\, help the Missionaries of Charity sisters in assisting low income families\, make lunch and serve at homeless shelters\, organize items at food pantries\, and/or feed the homeless on the streets. We usually finish around Noon\, but there will be fellowship over lunch (optional) sometimes. \n\n\n\nThis is a family friendly event. Everyone that is planning to attend must RSVP here\, so we can let the places of service know how many people to expect. Like Mother Teresa said\, “let us do something beautiful for God.” \n\n\n\nINSTRUCTIONS:1. If this is your first time volunteering with us\, please Register here. \n\n\n\n2. Meet us at the Church. Please consider attending 8 a.m. Mass beforehand if you could. \n\n\n\n3. This is where it begins but most of you will go to different locations after the fellowship\, orientation\, and prayer\, so don’t be late. \n\n\n\n4. Not everyone will work in a soup kitchen or in a garden\, but please dress (casual) to be able to work wherever the need maybe. \n\n\n\n5. By serving with us\, you are agreeing to these terms and conditions (Liability Waiver). Everyone under 18 attending with a chaperone should print the Liability Waiver and have it signed by the parent before coming to the event. \n\n\n\n6. Please do not go directly to the service locations\, out of respect for our collaborators\, our legal guidelines\, and your own safety. \n\n\n\n7. Please like us on Facebook\, follow us on Instagram\,  connect with us on LinkedIn\, and join GroupMe to be notified about upcoming events.
URL:https://projectfindingcalcutta.com/volunteer/dallas-st-joseph-vietnamese/
LOCATION:St. Joseph Vietnamese Parish\, 1902 S. Beltline Rd.\, Grand Prairie\, Texas\, 75051
CATEGORIES:Dallas,DFW
END:VEVENT
BEGIN:VEVENT
DTSTART;TZID=America/Chicago:20240525T090000
DTEND;TZID=America/Chicago:20240525T123000
DTSTAMP:20260425T070511
CREATED:20240108T192037Z
LAST-MODIFIED:20240108T192147Z
UID:6760-1716627600-1716640200@projectfindingcalcutta.com
SUMMARY:Dallas Volunteers @ Mater Dei
DESCRIPTION:Would you like to make a difference? Are you looking for service opportunities? \n\n\n\nJoin us for a half day to serve the poorest of the poor in the spirit of Mother Teresa. We will begin with check-in\, fellowship\, and prayer at 9 a.m. and then separate into smaller groups to go comfort the elderly at nursing homes or do garden work for them\, help the Missionaries of Charity sisters in assisting low income families\, make lunch and serve at homeless shelters\, organize items at food pantries\, and/or feed the homeless on the streets. We usually finish around 12:30 p.m.\, but there will be lunch (optional) afterwards. \n\n\n\nThis is a family friendly event. Everyone that is planning to attend must RSVP here\, so we can let the places of service know how many people to expect. Like Mother Teresa said\, “let us do something beautiful for God.” \n\n\n\nINSTRUCTIONS:1. If this is your first time with us\, please complete the New Volunteer Registration. \n\n\n\n2. Meet us in the parking lot. Please consider attending 8:30 a.m. Mass beforehand if you could. \n\n\n\n3. This is where it begins but most of you will go to different locations after the fellowship\, orientation\, and prayer\, so don’t be late. \n\n\n\n4. Not everyone will work in a soup kitchen or in a garden\, but please dress (casual) to be able to work wherever the need maybe. \n\n\n\n5. By serving with us\, you are agreeing to these terms and conditions (Liability Waiver). Everyone under 18 attending with a chaperone should print the Liability Waiver and have it signed by the parent before coming to the event. \n\n\n\n6. Please do not go directly to the service locations\, out of respect for our collaborators\, our legal guidelines\, and your own safety. \n\n\n\n7. Please like us on Facebook\, follow us on Instagram\, and join GroupMe to be notified about upcoming events.
URL:https://projectfindingcalcutta.com/volunteer/dallas-mater-dei-8/
LOCATION:Mater Dei Catholic Church\, 2030 East State Highway 356\, Irving\, TX\, 75060\, United States
CATEGORIES:Dallas,DFW
ATTACH;FMTTYPE=image/png:https://projectfindingcalcutta.com/wp-content/uploads/2023/04/PFC-Mater-Dei.png
END:VEVENT
END:VCALENDAR