BEGIN:VCALENDAR
VERSION:2.0
PRODID:-//Project Finding Calcutta - ECPv6.15.20//NONSGML v1.0//EN
CALSCALE:GREGORIAN
METHOD:PUBLISH
X-WR-CALNAME:Project Finding Calcutta
X-ORIGINAL-URL:https://projectfindingcalcutta.com
X-WR-CALDESC:Events for Project Finding Calcutta
REFRESH-INTERVAL;VALUE=DURATION:PT1H
X-Robots-Tag:noindex
X-PUBLISHED-TTL:PT1H
BEGIN:VTIMEZONE
TZID:America/Chicago
BEGIN:DAYLIGHT
TZOFFSETFROM:-0600
TZOFFSETTO:-0500
TZNAME:CDT
DTSTART:20230312T080000
END:DAYLIGHT
BEGIN:STANDARD
TZOFFSETFROM:-0500
TZOFFSETTO:-0600
TZNAME:CST
DTSTART:20231105T070000
END:STANDARD
BEGIN:DAYLIGHT
TZOFFSETFROM:-0600
TZOFFSETTO:-0500
TZNAME:CDT
DTSTART:20240310T080000
END:DAYLIGHT
BEGIN:STANDARD
TZOFFSETFROM:-0500
TZOFFSETTO:-0600
TZNAME:CST
DTSTART:20241103T070000
END:STANDARD
BEGIN:DAYLIGHT
TZOFFSETFROM:-0600
TZOFFSETTO:-0500
TZNAME:CDT
DTSTART:20250309T080000
END:DAYLIGHT
BEGIN:STANDARD
TZOFFSETFROM:-0500
TZOFFSETTO:-0600
TZNAME:CST
DTSTART:20251102T070000
END:STANDARD
END:VTIMEZONE
BEGIN:VEVENT
DTSTART;TZID=America/Chicago:20240905T170000
DTEND;TZID=America/Chicago:20240905T203000
DTSTAMP:20260424T201702
CREATED:20240820T171918Z
LAST-MODIFIED:20240830T151419Z
UID:9072-1725555600-1725568200@projectfindingcalcutta.com
SUMMARY:An Evening with Mother Teresa
DESCRIPTION:September 5th is Mother Teresa’s feast day and also Project Finding Calcutta is celebrating its 5th anniversary! You and your friends are invited to join us for an Evening with Mother Teresa\, a family-friendly event featuring live music\, fun games\, inspiring talks\, and amazing Indian food! The festival will go from 6:00 – 7:30 PM in the Holy Family of Nazareth Parish Hall\, Irving\, but the Happy Hour with snacks\, drinks\, and games will start at 5 PM. Entry is FREE for those who RSVP here! \n\n\n\n \n\n\n\n\n\n\n\n\n\n\n\nSPONSORSHIP OPPORTUNITIES \n\n\n\nEntry – FREETable Sponsor – $300(dinner for 8 + table signage)Service Saturday Sponsor – $500(dinner for 8 + online recognition + PFC will host a service project at a parish\, school\, or company)Summer Camp Sponsor – $1\,000(dinner for 8 + online recognition + free camp for children from one family)Missionary Sponsor – $3\,000(dinner for 8 + online recognition + religious gifts)Event Sponsor – $5\,000(Dinner for 8 + online and live recognition + religious gifts + Mass offering at the tomb of Mother Teresa)Chapter Sponsor – $10\,000(Dinner for 8 + online and live recognition + religious gifts + Mass offering at the tomb of Mother Teresa + your logo on our print branding)
URL:https://projectfindingcalcutta.com/volunteer/an-evening-with-mother-teresa/
LOCATION:Holy Family of Nazareth\, 2323 Cheyenne St.\, Irving\, Texas\, 75062\, United States
CATEGORIES:Dallas,DFW,Fort Worth
ATTACH;FMTTYPE=image/png:https://projectfindingcalcutta.com/wp-content/uploads/2021/05/An-Evening-with-Mother-Teresa-2021.png
END:VEVENT
BEGIN:VEVENT
DTSTART;TZID=America/Chicago:20240907T090000
DTEND;TZID=America/Chicago:20240907T120000
DTSTAMP:20260424T201702
CREATED:20240815T232347Z
LAST-MODIFIED:20240820T171132Z
UID:8980-1725699600-1725710400@projectfindingcalcutta.com
SUMMARY:Dallas Volunteers @ Missionaries of Charity
DESCRIPTION:Would you like to make a difference? Are you looking for service opportunities? \n\n\n\nJoin us for a half day to serve the poorest of the poor in the spirit of Mother Teresa. We will begin with fellowship\, prayer\, and the orientation\, and then we separate into smaller groups to go comfort the elderly at nursing homes or do garden work for them\, help the Missionaries of Charity sisters in assisting low income families or homeless pregnant women\, make lunch and serve at soup kitchens\, organize items at food pantries\, and/or feed the homeless on the streets. \n\n\n\nWe usually finish around Noon\, and continue the fellowship by grabbing lunch together afterwards (optional). \n\n\n\nThis is a family friendly event\, so children of all ages are welcome. We encourage everyone to RSVP here\, so we can let the places of service know how many people to expect. Like Mother Teresa said\, “let us do something beautiful for God.” \n\n\n\nINSTRUCTIONS: \n\n\n\n1. LOCATION: Please meet us under the carport\, between Jesus and Mary. \n\n\n\n2. PROJECTS: The event begins at the location below but most of you will go to different service sites after the orientation\, so please don’t be late. \n\n\n\n3. NEW VOLUNTEERS: serving with us for the first-time\, please Register here before RSVPing to this event. Every one/family must sign these waivers before volunteering. \n\n\n\n4. GROUPS: Please send us a message before bringing 10+ volunteers from your group. \n\n\n\n5. MINORS: By serving with us\, everyone is agreeing to these terms and conditions (Liability Waiver). Everyone under 18 attending with a chaperone (without a parent) should print the Liability Waiver and have it signed by the parent BEFORE coming to the event\, and please present it to the Leader as soon as you arrive. \n\n\n\n6. DRESS CODE: Not everyone will serve soup from a kitchen or dig dirt for a garden\, but please dress (casual) to be able to work wherever the need maybe. \n\n\n\n7. PLEASE DO NOT go directly to the service locations\, out of respect for our collaborators\, our legal guidelines\, and for your own safety. \n\n\n\n8. FOLLOW US on Facebook\, Instagram\, LinkedIn and GroupMe to be notified about the upcoming events.
URL:https://projectfindingcalcutta.com/volunteer/dallas-missionaries-of-charity-37/
LOCATION:Missionaries of Charity\, 2727 Harlandale Ave\, Dallas\, TX\, 75216\, United States
CATEGORIES:Dallas,DFW
ATTACH;FMTTYPE=image/jpeg:https://projectfindingcalcutta.com/wp-content/uploads/2023/05/Service-Saturday-MC.jpeg
END:VEVENT
BEGIN:VEVENT
DTSTART;TZID=America/Chicago:20240914T093000
DTEND;TZID=America/Chicago:20240914T120000
DTSTAMP:20260424T201702
CREATED:20240730T004137Z
LAST-MODIFIED:20240815T231315Z
UID:8757-1726306200-1726315200@projectfindingcalcutta.com
SUMMARY:Dallas Volunteers @ University of Dallas
DESCRIPTION:Would you like to make a difference? Are you looking for service opportunities? \n\n\n\nJoin us for a half day to serve the poorest of the poor in the spirit of Mother Teresa. We will begin with check-in\, fellowship\, and the orientation\, and then separate into smaller groups to go comfort the elderly at nursing homes or do garden work for them\, help the Missionaries of Charity sisters in assisting low income families\, make lunch and serve at homeless shelters\, organize items at food pantries\, and/or feed the homeless on the streets. We usually finish around Noon\, and continue the fellowship by grabbing lunch together afterwards (optional). \n\n\n\nThis is a family friendly event\, so children of all ages are welcome. We encourage everyone to RSVP here\, so we can let the places of service know how many people to expect. Like Mother Teresa said\, “let us do something beautiful for God.” \n\n\n\nINSTRUCTIONS:1. NEW VOLUNTEERS: If this is your first time with us\, please complete the Registration here before RSVPing to this event. Every one/family must sign these waivers before volunteering. \n\n\n\n2. LOCATION: Meet us at the Tower on Campus. Please consider attending the 9 AM Mass at the Church of the Incarnation. \n\n\n\n3. PROJECTS: This is where it begins but most of you will go to different service sites after the fellowship\, orientation\, and prayer\, so don’t be late. \n\n\n\n4. GROUPS: Please send us a message before bringing 10+ volunteers from your group. \n\n\n\n5. DRESS CODE: Not everyone will serve soup or dig dirt for a garden\, but please dress (casual) to be able to work wherever the need maybe. \n\n\n\n6. MINORS: By serving with us\, everyone is agreeing to these terms and conditions (Liability Waiver). Everyone under 18 attending with a chaperone (without a parent) should print the Liability Waiver and have it signed by the parent BEFORE coming to the event\, and please present it to the Leader as soon as you arrive. \n\n\n\n7. PLEASE DO NOT go directly to the service locations\, out of respect for our collaborators\, our legal guidelines\, and for your own safety. \n\n\n\n8. FOLLOW US on Facebook\, Instagram\, LinkedIn and GroupMe to be notified about the upcoming events.
URL:https://projectfindingcalcutta.com/volunteer/dallas-university-of-dallas-5/
LOCATION:University of Dallas\, 1845 E Northgate Drive\, Irving\, TX\, 75062\, United States
CATEGORIES:Dallas,DFW
ATTACH;FMTTYPE=image/jpeg:https://projectfindingcalcutta.com/wp-content/uploads/2023/01/UD-Service-Saturday.jpeg
END:VEVENT
BEGIN:VEVENT
DTSTART;TZID=America/Chicago:20240921T090000
DTEND;TZID=America/Chicago:20240921T120000
DTSTAMP:20260424T201702
CREATED:20240815T232924Z
LAST-MODIFIED:20240815T232926Z
UID:8983-1726909200-1726920000@projectfindingcalcutta.com
SUMMARY:Dallas Volunteers @ Missionaries of Charity
DESCRIPTION:Would you like to make a difference? Are you looking for service opportunities? \n\n\n\nJoin us for a half day to serve the poorest of the poor in the spirit of Mother Teresa. We will begin with fellowship\, prayer\, and the orientation\, and then we separate into smaller groups to go comfort the elderly at nursing homes or do garden work for them\, help the Missionaries of Charity sisters in assisting low income families or homeless pregnant women\, make lunch and serve at soup kitchens\, organize items at food pantries\, and/or feed the homeless on the streets. \n\n\n\nWe usually finish around Noon\, and continue the fellowship by grabbing lunch together afterwards (optional). \n\n\n\nThis is a family friendly event\, so children of all ages are welcome. We encourage everyone to RSVP here\, so we can let the places of service know how many people to expect. Like Mother Teresa said\, “let us do something beautiful for God.” \n\n\n\nINSTRUCTIONS: \n\n\n\n1. LOCATION: Please meet us under the carport\, between Jesus and Mary. \n\n\n\n2. PROJECTS: The event begins at the location below but most of you will go to different service sites after the orientation\, so please don’t be late. \n\n\n\n3. NEW VOLUNTEERS: serving with us for the first-time\, please Register here before RSVPing to this event. Every one/family must sign these waivers before volunteering. \n\n\n\n4. GROUPS: Please send us a message before bringing 10+ volunteers from your group. \n\n\n\n5. MINORS: By serving with us\, everyone is agreeing to these terms and conditions (Liability Waiver). Everyone under 18 attending with a chaperone (without a parent) should print the Liability Waiver and have it signed by the parent BEFORE coming to the event\, and please present it to the Leader as soon as you arrive. \n\n\n\n6. DRESS CODE: Not everyone will serve soup from a kitchen or dig dirt for a garden\, but please dress (casual) to be able to work wherever the need maybe. \n\n\n\n7. PLEASE DO NOT go directly to the service locations\, out of respect for our collaborators\, our legal guidelines\, and for your own safety. \n\n\n\n8. FOLLOW US on Facebook\, Instagram\, LinkedIn and GroupMe to be notified about the upcoming events.
URL:https://projectfindingcalcutta.com/volunteer/dallas-missionaries-of-charity-38/
LOCATION:Missionaries of Charity\, 2727 Harlandale Ave\, Dallas\, TX\, 75216\, United States
CATEGORIES:Dallas,DFW
ATTACH;FMTTYPE=image/jpeg:https://projectfindingcalcutta.com/wp-content/uploads/2023/05/Service-Saturday-MC.jpeg
END:VEVENT
BEGIN:VEVENT
DTSTART;TZID=America/Chicago:20240921T093000
DTEND;TZID=America/Chicago:20240921T120000
DTSTAMP:20260424T201702
CREATED:20240826T170438Z
LAST-MODIFIED:20240913T181440Z
UID:9176-1726911000-1726920000@projectfindingcalcutta.com
SUMMARY:AHG - Service Project
DESCRIPTION:INVITE ONLY: This service event is only for the American Heritage Girls and their families. \n\n\n\nWould you like to make a difference? Are you looking for service opportunities? \n\n\n\nJoin us for a half day to serve the poorest of the poor in the spirit of Mother Teresa. We will begin with prayer at 9:30 a.m.\, snacks and orientation right after\, and then separate into smaller groups to serve the poorest of the poor locally. You will have the choice to pick between homeless ministry\, elderly ministry\, or helping low income families. \n\n\n\nEveryone must RSVP here. We are excited to serve with you. Like Mother Teresa said\, “let us do something beautiful for God.” \n\n\n\nINSTRUCTIONS:NEW VOLUNTEERS: If this is your first time with us\, please complete the Registration here before RSVPing to this event below. Every one/family must sign these waivers before volunteering. \n\n\n\nFOLLOW US on Facebook\, Instagram\, LinkedIn and GroupMe to be notified about the upcoming events. \n\n\n\nMISSION TRIP: Are you interested in a summer mission trip to India? Students under 18 can come with a parent or an older sibling and make memories to remember for a life-time. Please check it out under “Trips”.
URL:https://projectfindingcalcutta.com/volunteer/american-heritage-girls/
LOCATION:St Rita Catholic Community\, 12521 Inwood Road\, Dallas\, TX\, 75244\, United States
CATEGORIES:Dallas,DFW
END:VEVENT
BEGIN:VEVENT
DTSTART;TZID=America/Chicago:20240928T090000
DTEND;TZID=America/Chicago:20240928T123000
DTSTAMP:20260424T201702
CREATED:20240108T202242Z
LAST-MODIFIED:20240108T202428Z
UID:6769-1727514000-1727526600@projectfindingcalcutta.com
SUMMARY:Dallas Volunteers @ Mater Dei
DESCRIPTION:Would you like to make a difference? Are you looking for service opportunities? \n\n\n\nJoin us for a half day to serve the poorest of the poor in the spirit of Mother Teresa. We will begin with check-in\, fellowship\, and prayer at 9 a.m. and then separate into smaller groups to go comfort the elderly at nursing homes or do garden work for them\, help the Missionaries of Charity sisters in assisting low income families\, make lunch and serve at homeless shelters\, organize items at food pantries\, and/or feed the homeless on the streets. We usually finish around 12:30 p.m.\, but there will be lunch (optional) afterwards. \n\n\n\nThis is a family friendly event. Everyone that is planning to attend must RSVP here\, so we can let the places of service know how many people to expect. Like Mother Teresa said\, “let us do something beautiful for God.” \n\n\n\nINSTRUCTIONS:1. If this is your first time with us\, please complete the New Volunteer Registration. \n\n\n\n2. Meet us in the parking lot. Please consider attending 8:30 a.m. Mass beforehand if you could. \n\n\n\n3. This is where it begins but most of you will go to different locations after the fellowship\, orientation\, and prayer\, so don’t be late. \n\n\n\n4. Not everyone will work in a soup kitchen or in a garden\, but please dress (casual) to be able to work wherever the need maybe. \n\n\n\n5. By serving with us\, you are agreeing to these terms and conditions (Liability Waiver). Everyone under 18 attending with a chaperone should print the Liability Waiver and have it signed by the parent before coming to the event. \n\n\n\n6. Please do not go directly to the service locations\, out of respect for our collaborators\, our legal guidelines\, and your own safety. \n\n\n\n7. Please like us on Facebook\, follow us on Instagram\, and join GroupMe to be notified about upcoming events.
URL:https://projectfindingcalcutta.com/volunteer/dallas-mater-dei-10/
LOCATION:Mater Dei Catholic Church\, 2030 East State Highway 356\, Irving\, TX\, 75060\, United States
CATEGORIES:Dallas,DFW
ATTACH;FMTTYPE=image/png:https://projectfindingcalcutta.com/wp-content/uploads/2023/04/PFC-Mater-Dei.png
END:VEVENT
END:VCALENDAR