BEGIN:VCALENDAR
VERSION:2.0
PRODID:-//Project Finding Calcutta - ECPv6.15.20//NONSGML v1.0//EN
CALSCALE:GREGORIAN
METHOD:PUBLISH
X-WR-CALNAME:Project Finding Calcutta
X-ORIGINAL-URL:https://projectfindingcalcutta.com
X-WR-CALDESC:Events for Project Finding Calcutta
REFRESH-INTERVAL;VALUE=DURATION:PT1H
X-Robots-Tag:noindex
X-PUBLISHED-TTL:PT1H
BEGIN:VTIMEZONE
TZID:America/Chicago
BEGIN:DAYLIGHT
TZOFFSETFROM:-0600
TZOFFSETTO:-0500
TZNAME:CDT
DTSTART:20230312T080000
END:DAYLIGHT
BEGIN:STANDARD
TZOFFSETFROM:-0500
TZOFFSETTO:-0600
TZNAME:CST
DTSTART:20231105T070000
END:STANDARD
BEGIN:DAYLIGHT
TZOFFSETFROM:-0600
TZOFFSETTO:-0500
TZNAME:CDT
DTSTART:20240310T080000
END:DAYLIGHT
BEGIN:STANDARD
TZOFFSETFROM:-0500
TZOFFSETTO:-0600
TZNAME:CST
DTSTART:20241103T070000
END:STANDARD
BEGIN:DAYLIGHT
TZOFFSETFROM:-0600
TZOFFSETTO:-0500
TZNAME:CDT
DTSTART:20250309T080000
END:DAYLIGHT
BEGIN:STANDARD
TZOFFSETFROM:-0500
TZOFFSETTO:-0600
TZNAME:CST
DTSTART:20251102T070000
END:STANDARD
END:VTIMEZONE
BEGIN:VEVENT
DTSTART;TZID=America/Chicago:20241102T090000
DTEND;TZID=America/Chicago:20241102T120000
DTSTAMP:20260424T164506
CREATED:20241028T002223Z
LAST-MODIFIED:20241028T002224Z
UID:9840-1730538000-1730548800@projectfindingcalcutta.com
SUMMARY:Dallas Volunteers @ Missionaries of Charity
DESCRIPTION:Would you like to make a difference? Are you looking for service opportunities? \n\n\n\nJoin us for a half day to serve the poorest of the poor in the spirit of Mother Teresa. We will begin with fellowship\, prayer\, and the orientation\, and then we separate into smaller groups to go comfort the elderly at nursing homes or do garden work for them\, help the Missionaries of Charity sisters in assisting low income families or homeless pregnant women\, make lunch and serve at soup kitchens\, organize items at food pantries\, and/or feed the homeless on the streets. \n\n\n\nWe usually finish around Noon\, and continue the fellowship by grabbing lunch together afterwards (optional). \n\n\n\nThis is a family friendly event\, so children of all ages are welcome. We encourage everyone to RSVP here\, so we can let the places of service know how many people to expect. Like Mother Teresa said\, “let us do something beautiful for God.” \n\n\n\nINSTRUCTIONS: \n\n\n\n1. LOCATION: Please meet us under the carport\, between Jesus and Mary. \n\n\n\n2. PROJECTS: The event begins at the location below but most of you will go to different service sites after the orientation\, so please don’t be late. \n\n\n\n3. NEW VOLUNTEERS: serving with us for the first-time\, please Register here before RSVPing to this event. Every one/family must sign these waivers before volunteering. \n\n\n\n4. GROUPS: Please send us a message before bringing 10+ volunteers from your group. \n\n\n\n5. MINORS: By serving with us\, everyone is agreeing to these terms and conditions (Liability Waiver). Everyone under 18 attending with a chaperone (without a parent) should print the Liability Waiver and have it signed by the parent BEFORE coming to the event\, and please present it to the Leader as soon as you arrive. \n\n\n\n6. DRESS CODE: Not everyone will serve soup from a kitchen or dig dirt for a garden\, but please dress (casual) to be able to work wherever the need maybe. \n\n\n\n7. PLEASE DO NOT go directly to the service locations\, out of respect for our collaborators\, our legal guidelines\, and for your own safety. \n\n\n\n8. FOLLOW US on Facebook\, Instagram\, LinkedIn and GroupMe to be notified about the upcoming events.
URL:https://projectfindingcalcutta.com/volunteer/dallas-missionaries-of-charity-39/
LOCATION:Missionaries of Charity\, 2727 Harlandale Ave\, Dallas\, TX\, 75216\, United States
CATEGORIES:Dallas,DFW
ATTACH;FMTTYPE=image/jpeg:https://projectfindingcalcutta.com/wp-content/uploads/2023/05/Service-Saturday-MC.jpeg
END:VEVENT
BEGIN:VEVENT
DTSTART;TZID=America/Chicago:20241102T130000
DTEND;TZID=America/Chicago:20241102T160000
DTSTAMP:20260424T164506
CREATED:20240925T181828Z
LAST-MODIFIED:20240925T200725Z
UID:9608-1730552400-1730563200@projectfindingcalcutta.com
SUMMARY:Fort Worth Volunteers @ St. Francis
DESCRIPTION:NOTE: This service event is open to anyone that is Safe Environment trained in Fort Worth diocese. If the RSVP button is not available\, that means the registrations have closed\, sorry. Also\, you will be asked to not attend if you have not signed up for the event/you are not in the SE database. \n\n\n\nWould you like to make a difference? Are you looking for service opportunities? \n\n\n\nJoin us for a half day to serve the poorest of the poor in the spirit of Mother Teresa. We will begin with fellowship and prayer and then separate into smaller groups to go comfort the elderly at nursing homes and do homeless ministry to our friends on the streets. This is a family friendly event. Everyone that is planning to attend must RSVP below\, so we can let the places of service know how many people to expect. Like Mother Teresa said\, “let us do something beautiful for God.” \n\n\n\nINSTRUCTIONS:1. If this is your first time volunteering with us\, please Register here. \n\n\n\n2. Meet us in front of the Church/in the Parish Hall. \n\n\n\n3. This is where it begins but most of you will go to different locations after the fellowship\, orientation\, and prayer\, so don’t be late. \n\n\n\n4. Not everyone will work in a soup kitchen or in a garden\, but please dress (casual) to be able to work wherever the need maybe. \n\n\n\n5. By serving with us\, you are agreeing to these terms and conditions (Liability Waiver). Everyone under 18 attending without a parent (but with a chaperone) should print the Liability Waiver and have it signed by the parent before coming to the event. \n\n\n\n6. Please do not go directly to the service locations\, out of respect for our collaborators\, our legal guidelines\, and your own safety. \n\n\n\n7. Please like us on Facebook\, follow us on Instagram\, connect with us on LinkedIn and join GroupMe to be notified about upcoming events.
URL:https://projectfindingcalcutta.com/volunteer/fort-worth-st-francis/
LOCATION:St. Francis of Assisi Church (Grapevine)\, 861 Wildwood Ln\, Grapevine\, Texas\, 76051\, United States
CATEGORIES:DFW,Fort Worth
END:VEVENT
BEGIN:VEVENT
DTSTART;TZID=America/Chicago:20241109T090000
DTEND;TZID=America/Chicago:20241109T120000
DTSTAMP:20260424T164506
CREATED:20240928T233929Z
LAST-MODIFIED:20240929T013950Z
UID:9650-1731142800-1731153600@projectfindingcalcutta.com
SUMMARY:Dallas Volunteers @ St Basil
DESCRIPTION:Would you like to make a difference? Are you looking for service opportunities? \n\n\n\nJoin us for a half day to serve the poorest of the poor in the spirit of Mother Teresa. We will begin with check-in\, fellowship\, and the orientation\, and then separate into smaller groups to go comfort the elderly at nursing homes or do garden work for them\, help the Missionaries of Charity sisters in assisting low income families\, make lunch and serve at homeless shelters\, organize items at food pantries\, and/or feed the homeless on the streets.We usually finish around Noon\, and continue the fellowship by grabbing lunch together afterwards (optional). \n\n\n\nThis is a family friendly event\, so children of all ages are welcome. We encourage everyone to RSVP here\, so we can let the places of service know how many people to expect. Like Mother Teresa said\, “let us do something beautiful for God.” \n\n\n\nINSTRUCTIONS:1. NEW VOLUNTEERS: If this is your first time with us\, please sign the mandatory waiver here before RSVPing to this event. \n\n\n\n2. LOCATION: Meet us in the parking lot. \n\n\n\n3. PROJECTS: This is where it begins but most of you will go to different service sites after the fellowship\, orientation\, and prayer\, so don’t be late. Projects change every week based on the needs but you will be given the options to choose from. \n\n\n\n4. GROUPS: Please send us a message before bringing 10+ volunteers from your group. \n\n\n\n5. DRESS CODE: Not everyone will serve soup at a shelter or dig dirt for a garden\, but please dress (casual) to be able to work wherever the need maybe. \n\n\n\n6. MINORS: By serving with us\, everyone is agreeing to these terms and conditions (Liability Waiver). Parents must print and sign the Liability Waiver for all minors attending with a chaperone (without a parent) and make sure it reaches the Leader as soon as they arrive. \n\n\n\n7. PLEASE DO NOT go directly to the service locations\, out of respect for our collaborators\, our legal guidelines\, and for your own safety. \n\n\n\n8. FOLLOW US on Facebook\, Instagram\, LinkedIn and GroupMe to be notified about the upcoming events.
URL:https://projectfindingcalcutta.com/volunteer/dallas-st-basil/
LOCATION:St Basil Byzantine Church\, 1118 East Union Bower Road\, Irving\, Texas\, 75061\, United States
CATEGORIES:Dallas,DFW
END:VEVENT
BEGIN:VEVENT
DTSTART;TZID=America/Chicago:20241116T093000
DTEND;TZID=America/Chicago:20241116T120000
DTSTAMP:20260424T164506
CREATED:20240730T005146Z
LAST-MODIFIED:20240730T005147Z
UID:8764-1731749400-1731758400@projectfindingcalcutta.com
SUMMARY:Dallas Volunteers @ University of Dallas
DESCRIPTION:Would you like to make a difference? Are you looking for service opportunities? \n\n\n\nJoin us for a half day to serve the poorest of the poor in the spirit of Mother Teresa. We will begin with check-in\, fellowship\, and the orientation\, and then separate into smaller groups to go comfort the elderly at nursing homes or do garden work for them\, help the Missionaries of Charity sisters in assisting low income families\, make lunch and serve at homeless shelters\, organize items at food pantries\, and/or feed the homeless on the streets.We usually finish around Noon\, and continue the fellowship by grabbing lunch together afterwards (optional). \n\n\n\nThis is a family friendly event\, so children of all ages are welcome. We encourage everyone to RSVP here\, so we can let the places of service know how many people to expect. Like Mother Teresa said\, “let us do something beautiful for God.” \n\n\n\nINSTRUCTIONS:1. NEW VOLUNTEERS: If this is your first time with us\, please complete the Registration here before RSVPing to this event. Every one/family must sign these waivers before volunteering. \n\n\n\n2. LOCATION: Meet us at the Tower on Campus. Please consider attending the 9 AM Mass at the Church of the Incarnation. \n\n\n\n3. PROJECTS: This is where it begins but most of you will go to different service sites after the fellowship\, orientation\, and prayer\, so don’t be late. \n\n\n\n4. GROUPS: Please send us a message before bringing 10+ volunteers from your group. \n\n\n\n5. DRESS CODE: Not everyone will serve soup or dig dirt for a garden\, but please dress (casual) to be able to work wherever the need maybe. \n\n\n\n6. MINORS: By serving with us\, everyone is agreeing to these terms and conditions (Liability Waiver). Everyone under 18 attending with a chaperone (without a parent) should print the Liability Waiver and have it signed by the parent BEFORE coming to the event\, and please present it to the Leader as soon as you arrive. \n\n\n\n7. PLEASE DO NOT go directly to the service locations\, out of respect for our collaborators\, our legal guidelines\, and for your own safety. \n\n\n\n8. FOLLOW US on Facebook\, Instagram\, LinkedIn and GroupMe to be notified about the upcoming events.
URL:https://projectfindingcalcutta.com/volunteer/dallas-university-of-dallas-7/
LOCATION:University of Dallas\, 1845 E Northgate Drive\, Irving\, TX\, 75062\, United States
CATEGORIES:Dallas,DFW
ATTACH;FMTTYPE=image/jpeg:https://projectfindingcalcutta.com/wp-content/uploads/2023/01/UD-Service-Saturday.jpeg
END:VEVENT
BEGIN:VEVENT
DTSTART;TZID=America/Chicago:20241123T090000
DTEND;TZID=America/Chicago:20241123T123000
DTSTAMP:20260424T164506
CREATED:20240108T202829Z
LAST-MODIFIED:20240108T202830Z
UID:6773-1732352400-1732365000@projectfindingcalcutta.com
SUMMARY:Dallas Volunteers @ Mater Dei
DESCRIPTION:Would you like to make a difference? Are you looking for service opportunities? \n\n\n\nJoin us for a half day to serve the poorest of the poor in the spirit of Mother Teresa. We will begin with check-in\, fellowship\, and prayer at 9 a.m. and then separate into smaller groups to go comfort the elderly at nursing homes or do garden work for them\, help the Missionaries of Charity sisters in assisting low income families\, make lunch and serve at homeless shelters\, organize items at food pantries\, and/or feed the homeless on the streets. We usually finish around 12:30 p.m.\, but there will be lunch (optional) afterwards. \n\n\n\nThis is a family friendly event. Everyone that is planning to attend must RSVP here\, so we can let the places of service know how many people to expect. Like Mother Teresa said\, “let us do something beautiful for God.” \n\n\n\nINSTRUCTIONS:1. If this is your first time with us\, please complete the New Volunteer Registration. \n\n\n\n2. Meet us in the parking lot. Please consider attending 8:30 a.m. Mass beforehand if you could. \n\n\n\n3. This is where it begins but most of you will go to different locations after the fellowship\, orientation\, and prayer\, so don’t be late. \n\n\n\n4. Not everyone will work in a soup kitchen or in a garden\, but please dress (casual) to be able to work wherever the need maybe. \n\n\n\n5. By serving with us\, you are agreeing to these terms and conditions (Liability Waiver). Everyone under 18 attending with a chaperone should print the Liability Waiver and have it signed by the parent before coming to the event. \n\n\n\n6. Please do not go directly to the service locations\, out of respect for our collaborators\, our legal guidelines\, and your own safety. \n\n\n\n7. Please like us on Facebook\, follow us on Instagram\, and join GroupMe to be notified about upcoming events.
URL:https://projectfindingcalcutta.com/volunteer/dallas-mater-dei-11/
LOCATION:Mater Dei Catholic Church\, 2030 East State Highway 356\, Irving\, TX\, 75060\, United States
CATEGORIES:Dallas,DFW
ATTACH;FMTTYPE=image/png:https://projectfindingcalcutta.com/wp-content/uploads/2023/04/PFC-Mater-Dei.png
END:VEVENT
BEGIN:VEVENT
DTSTART;TZID=America/Chicago:20241130T093000
DTEND;TZID=America/Chicago:20241130T123000
DTSTAMP:20260424T164506
CREATED:20241028T003001Z
LAST-MODIFIED:20241122T010757Z
UID:9843-1732959000-1732969800@projectfindingcalcutta.com
SUMMARY:Dallas Friendsgiving with the Street Friends
DESCRIPTION:Would you like to make a difference? Are you looking for service opportunities? \n\n\n\nJoin us for a half day to serve the poorest of the poor in the spirit of Mother Teresa. We will begin with fellowship\, prayer\, and the orientation\, and then we separate into smaller groups to go comfort the elderly at nursing homes\, help the Missionaries of Charity sisters in assisting homeless pregnant women\, or celebrate Thanksgiving with our friends on the streets at our First Annual Friendsgiving. \n\n\n\nThis is a family friendly event\, so children of all ages are welcome. We encourage everyone to RSVP here\, so we can let the places of service know how many people to expect. Like Mother Teresa said\, “let us do something beautiful for God.” \n\n\n\nINSTRUCTIONS: \n\n\n\n1. LOCATION: Please meet us under the carport\, between Jesus and Mary. \n\n\n\n2. PROJECTS: The event begins at the location below but most of you will go to different service sites after the orientation\, so please don’t be late. \n\n\n\n3. NEW VOLUNTEERS: serving with us for the first-time\, please Register here before RSVPing to this event. Every one/family must sign these waivers before volunteering. \n\n\n\n4. GROUPS: Please send us a message before bringing 10+ volunteers from your group. \n\n\n\n5. MINORS: By serving with us\, everyone is agreeing to these terms and conditions (Liability Waiver). Everyone under 18 attending with a chaperone (without a parent) should print the Liability Waiver and have it signed by the parent BEFORE coming to the event\, and please present it to the Leader as soon as you arrive. \n\n\n\n6. DRESS CODE: Not everyone will serve soup from a kitchen or dig dirt for a garden\, but please dress (casual) to be able to work wherever the need maybe. \n\n\n\n7. PLEASE DO NOT go directly to the service locations\, out of respect for our collaborators\, our legal guidelines\, and for your own safety. \n\n\n\n8. FOLLOW US on Facebook\, Instagram\, LinkedIn and GroupMe to be notified about the upcoming events.
URL:https://projectfindingcalcutta.com/volunteer/dallas-missionaries-of-charity-40/
LOCATION:Missionaries of Charity\, 2727 Harlandale Ave\, Dallas\, TX\, 75216\, United States
CATEGORIES:Dallas,DFW
ATTACH;FMTTYPE=image/jpeg:https://projectfindingcalcutta.com/wp-content/uploads/2024/10/Friendsgiving.jpg
END:VEVENT
END:VCALENDAR