BEGIN:VCALENDAR
VERSION:2.0
PRODID:-//Project Finding Calcutta - ECPv6.15.20//NONSGML v1.0//EN
CALSCALE:GREGORIAN
METHOD:PUBLISH
X-ORIGINAL-URL:https://projectfindingcalcutta.com
X-WR-CALDESC:Events for Project Finding Calcutta
REFRESH-INTERVAL;VALUE=DURATION:PT1H
X-Robots-Tag:noindex
X-PUBLISHED-TTL:PT1H
BEGIN:VTIMEZONE
TZID:America/Chicago
BEGIN:DAYLIGHT
TZOFFSETFROM:-0600
TZOFFSETTO:-0500
TZNAME:CDT
DTSTART:20240310T080000
END:DAYLIGHT
BEGIN:STANDARD
TZOFFSETFROM:-0500
TZOFFSETTO:-0600
TZNAME:CST
DTSTART:20241103T070000
END:STANDARD
BEGIN:DAYLIGHT
TZOFFSETFROM:-0600
TZOFFSETTO:-0500
TZNAME:CDT
DTSTART:20250309T080000
END:DAYLIGHT
BEGIN:STANDARD
TZOFFSETFROM:-0500
TZOFFSETTO:-0600
TZNAME:CST
DTSTART:20251102T070000
END:STANDARD
BEGIN:DAYLIGHT
TZOFFSETFROM:-0600
TZOFFSETTO:-0500
TZNAME:CDT
DTSTART:20260308T080000
END:DAYLIGHT
BEGIN:STANDARD
TZOFFSETFROM:-0500
TZOFFSETTO:-0600
TZNAME:CST
DTSTART:20261101T070000
END:STANDARD
END:VTIMEZONE
BEGIN:VEVENT
DTSTART;TZID=America/Chicago:20251206T090000
DTEND;TZID=America/Chicago:20251206T130000
DTSTAMP:20260423T161236
CREATED:20250905T002616Z
LAST-MODIFIED:20250923T022010Z
UID:12499-1765011600-1765026000@projectfindingcalcutta.com
SUMMARY:DFW Volunteers @ Missionaries of Charity
DESCRIPTION:Would you like to make a difference? Are you looking for service opportunities? \n\n\n\nProject Finding Calcutta is very excited to welcome Vera Aqua Vera Vita to join us for a half day to serve the poorest of the poor in the spirit of Mother Teresa. Vera Aqua Vera Vita (VAVV) is a nonprofit dedicated to empowering communities in need through access to clean water\, sanitation\, and hygiene. We’re excited to bring this mission of dignity and hope into our local DFW community by serving with Project Finding Calcutta. We will begin with fellowship\, prayer\, and the orientation\, and then we separate into smaller groups to go comfort the elderly at nursing homes\, work at a community garden\, help the Missionaries of Charity sisters in assisting low income families or homeless pregnant women\, make lunch and serve at soup kitchens\, organize items at food pantries\, and/or feed the homeless on the streets. \n\n\n\nFollowing the service event\, all are invited to continue fellowship over lunch (optional)\, provided by Vera Aqua Vera Vita. \n\n\n\nThis is a family friendly event\, so children of all ages are welcome. We encourage everyone to RSVP here\, so we can let the places of service know how many people to expect. Like Mother Teresa said\, “let us do something beautiful for God.” \n\n\n\nSPECIAL INSTRUCTIONS: \n\n\n\n1. LOCATION: Please meet us under the carport\, between Jesus and Mary. \n\n\n\n2. PROJECTS: The event begins at the location below but most of you will go to different service sites after the orientation\, so please don’t be late. \n\n\n\n3. NEW VOLUNTEERS: serving with us for the first-time\, please Register here before RSVPing to this event. Everyone must sign these waivers before volunteering. One Waiver per family is sufficient. \n\n\n\n4. GROUPS: Please send us a message before bringing 10+ volunteers from your group. \n\n\n\n5. MINORS: By serving with us\, everyone is agreeing to these terms and conditions (Liability Waiver). Everyone under 18 attending with a chaperone (without a parent) should print the Liability Waiver and have it signed by the parent BEFORE coming to the event\, and please present it to the Leader as soon as you arrive. \n\n\n\n6. DRESS CODE: Not everyone will serve soup from a kitchen or dig dirt for a garden\, but please dress (casual) to be able to work wherever the need maybe. \n\n\n\n7. PLEASE DO NOT go directly to the service locations\, out of respect for our collaborators\, our legal guidelines\, and for your own safety.
URL:https://projectfindingcalcutta.com/volunteer/dfw-vavv-true-water/
LOCATION:Missionaries of Charity\, 2727 Harlandale Ave\, Dallas\, TX\, 75216\, United States
CATEGORIES:Dallas,DFW,Fort Worth
ATTACH;FMTTYPE=image/png:https://projectfindingcalcutta.com/wp-content/uploads/2025/09/True-Water-1.png
END:VEVENT
BEGIN:VEVENT
DTSTART;TZID=America/Chicago:20251206T093000
DTEND;TZID=America/Chicago:20251206T120000
DTSTAMP:20260423T161236
CREATED:20250121T210840Z
LAST-MODIFIED:20250121T210842Z
UID:10576-1765013400-1765022400@projectfindingcalcutta.com
SUMMARY:DFW Volunteers @ St Mary the Virgin
DESCRIPTION:Would you like to make a difference? Are you looking for service opportunities? \n\n\n\nJoin us for a half day to serve the poorest of the poor in the spirit of Mother Teresa. We will begin with fellowship\, prayer\, and the orientation\, and then we separate into smaller groups to go comfort the elderly at nursing homes\, feed the homeless on the streets\, help the Missionaries of Charity sisters in assisting low income families or homeless pregnant women\, work at a community garden\, make lunch and serve at soup kitchens\, and/or organize items at food pantries. \n\n\n\nMost weeks\, we continue the fellowship by grabbing lunch together (optional) after serving. \n\n\n\nThis is a family friendly event\, so children of all ages are welcome. We encourage everyone to RSVP here\, so we can let the places of service know how many people to expect. Like Mother Teresa said\, “let us do something beautiful for God.” \n\n\n\nSPECIAL INSTRUCTIONS: \n\n\n\n1. LOCATION: Meet us in front of the Church. Please consider attending the 9 AM Mass first. \n\n\n\n2. PROJECTS: The event begins at the location below but most of you will go to different service sites after the orientation\, so please don’t be late. \n\n\n\n3. NEW VOLUNTEERS: serving with us for the first-time\, please Register here before RSVPing to this event. Everyone must sign these waivers before volunteering. One Waiver per family is sufficient. \n\n\n\n4. GROUPS: Please send us a message before bringing 10+ volunteers from your group. \n\n\n\n5. MINORS: By serving with us\, everyone is agreeing to these terms and conditions (Liability Waiver). Everyone under 18 attending with a chaperone (without a parent) should print the Liability Waiver and have it signed by the parent BEFORE coming to the event\, and please present it to the Leader as soon as you arrive. \n\n\n\n6. DRESS CODE: Not everyone will serve soup from a kitchen or dig dirt for a garden\, but please dress (casual) to be able to work wherever the need maybe. \n\n\n\n7. PLEASE DO NOT go directly to the service locations\, out of respect for our collaborators\, our legal guidelines\, and for your own safety.
URL:https://projectfindingcalcutta.com/volunteer/dfw-st-mary-the-virgin-14/
LOCATION:St Mary the Virgin\, 1408 N Davis Dr.\, Arlington\, Texas\, 76012\, United States
CATEGORIES:Dallas,DFW,Fort Worth
ATTACH;FMTTYPE=image/jpeg:https://projectfindingcalcutta.com/wp-content/uploads/2023/09/SMV-Saturdays.jpeg
END:VEVENT
BEGIN:VEVENT
DTSTART;TZID=America/Chicago:20251213T090000
DTEND;TZID=America/Chicago:20251213T120000
DTSTAMP:20260423T161236
CREATED:20250810T231929Z
LAST-MODIFIED:20251212T131328Z
UID:12359-1765616400-1765627200@projectfindingcalcutta.com
SUMMARY:Dallas Volunteers @ St Basil
DESCRIPTION:Would you like to make a difference? Are you looking for service opportunities? \n\n\n\nJoin us for a half day to serve the poorest of the poor in the spirit of Mother Teresa. We will begin with fellowship\, prayer\, and the orientation\, and then we separate into smaller groups to go comfort the elderly at nursing homes and the homeless on the streets by singing Christmas Carols. Feel free to bring your musical instruments. Caroling ends around Noon. \n\n\n\n\n\n\n\nAfterwards\, we are throwing a Christmas party with Lunch\, Cookie Exchange and a PickleBall tournament (at UD). Please bring 2 dozen cookies. One for the homeless and one for exchange. We’ll start the party around 12:30 PM. \n\n\n\n\n\n\n\nChristmas party is at ANSELM HALL\, UNIVERSITY OF DALLAS. We invite you to attend both events\, but if you can only come to one\, you are more than welcome to. \n\n\n\nThis is a family friendly event\, so children of all ages are welcome. We encourage everyone to RSVP here\, so we can let the places of service know how many people to expect. Like Mother Teresa said\, “let us do something beautiful for God.” \n\n\n\nSPECIAL INSTRUCTIONS: \n\n\n\n1. LOCATION: Meet us in front of the Church. \n\n\n\n2. PROJECTS: The event begins at the location below but most of you will go to different service sites after the orientation\, so please don’t be late. \n\n\n\n3. NEW VOLUNTEERS: serving with us for the first-time\, please Register here before RSVPing to this event. Everyone must sign these waivers before volunteering. One Waiver per family is sufficient. \n\n\n\n4. GROUPS: Please send us a message before bringing 10+ volunteers from your group. \n\n\n\n5. MINORS: By serving with us\, everyone is agreeing to these terms and conditions (Liability Waiver). Everyone under 18 attending with a chaperone (without a parent) should print the Liability Waiver and have it signed by the parent BEFORE coming to the event\, and please present it to the Leader as soon as you arrive. \n\n\n\n6. DRESS CODE: Not everyone will serve soup from a kitchen or dig dirt for a garden\, but please dress (casual) to be able to work wherever the need maybe. \n\n\n\n7. PLEASE DO NOT go directly to the service locations\, out of respect for our collaborators\, our legal guidelines\, and for your own safety.
URL:https://projectfindingcalcutta.com/volunteer/dallas-st-basil-6/
LOCATION:St Basil Byzantine Church\, 1118 East Union Bower Road\, Irving\, Texas\, 75061\, United States
CATEGORIES:Dallas,DFW,Fort Worth
ATTACH;FMTTYPE=image/jpeg:https://projectfindingcalcutta.com/wp-content/uploads/2025/08/Christmas-Caroling-2025.jpg
END:VEVENT
BEGIN:VEVENT
DTSTART;TZID=America/Chicago:20251213T123000
DTEND;TZID=America/Chicago:20251213T150000
DTSTAMP:20260423T161236
CREATED:20251212T141958Z
LAST-MODIFIED:20260311T132435Z
UID:13237-1765629000-1765638000@projectfindingcalcutta.com
SUMMARY:Christmas Party
DESCRIPTION:Did you get a chance to serve the poor this Advent? If you are too busy\, you can at least drop off some cookies for them. \n\n\n\nEven better\, join our cookie exchange party. Please come to the Anselm Hall at UD around 12:30\, enjoy a free lunch\, participate in the cookie fun\, and play some pickleball.  \n\n\n\nIf you like to sing\, you are welcome to join us before lunch for some Christmas carols at a Nursing Home nearby. Visit our calendar for more details.
URL:https://projectfindingcalcutta.com/volunteer/christmas-2025/
LOCATION:University of Dallas\, 1845 E Northgate Drive\, Irving\, TX\, 75062\, United States
CATEGORIES:Dallas,DFW,Fort Worth
ATTACH;FMTTYPE=image/jpeg:https://projectfindingcalcutta.com/wp-content/uploads/2025/08/Christmas-Cookie-Exchange-Pickleball.jpg
END:VEVENT
BEGIN:VEVENT
DTSTART;TZID=America/Chicago:20251220T090000
DTEND;TZID=America/Chicago:20251220T120000
DTSTAMP:20260423T161236
CREATED:20251113T174828Z
LAST-MODIFIED:20251113T180104Z
UID:13041-1766221200-1766232000@projectfindingcalcutta.com
SUMMARY:Dallas Volunteers @ St. Monica (JCDA)
DESCRIPTION:Dear Jr Catholic Daughters of America\, would you like to make a difference? Are you looking for service opportunities? \n\n\n\nJoin us for a half day to serve the poorest of the poor in the spirit of Mother Teresa. We will begin with fellowship and prayer at the location below and then separate into smaller groups to go comfort the elderly at nursing homes or do garden work for them\, help the Missionaries of Charity sisters in assisting low income families\, make lunch and serve at homeless shelters\, organize items at food pantries\, and/or feed the homeless on the streets. We usually finish around Noon. \n\n\n\nEveryone that is planning to attend must RSVP here\, so we can let the places of service know how many people to expect. Like Mother Teresa said\, “let us do something beautiful for God.” \n\n\n\nINSTRUCTIONS:1. If this is your first time volunteering with us\, in addition to RSVPing below please also Register here (to sign the waiver). \n\n\n\n2. Meet us at the Family Center. \n\n\n\n3. This is where it begins but most of you will go to different locations after the fellowship\, orientation\, and prayer\, so don’t be late. \n\n\n\n4. Not everyone will work in a soup kitchen or in a garden\, but please dress (casual) to be able to work wherever the need maybe. \n\n\n\n5. By serving with us\, you are agreeing to these terms and conditions (Liability Waiver). Everyone under 18 attending without a parent but with a chaperone should print the Liability Waiver and have it signed by the parent before coming to the event. \n\n\n\n6. Please do not go directly to the service locations\, out of respect for our collaborators\, our legal guidelines\, and your own safety. \n\n\n\n7. Please like us on Facebook\, follow us on Instagram\, and join GroupMe to be notified about upcoming events.
URL:https://projectfindingcalcutta.com/volunteer/dallas-st-monica/
LOCATION:St. Monica Catholic Church\, 9933 Midway Rd\, Dallas\, Texas\, 75220\, United States
CATEGORIES:Dallas,DFW
ATTACH;FMTTYPE=image/jpeg:https://projectfindingcalcutta.com/wp-content/uploads/2023/10/IMG-20210811-WA0004.jpg
END:VEVENT
BEGIN:VEVENT
DTSTART;TZID=America/Chicago:20251220T093000
DTEND;TZID=America/Chicago:20251220T120000
DTSTAMP:20260423T161236
CREATED:20250205T193126Z
LAST-MODIFIED:20250205T193127Z
UID:10795-1766223000-1766232000@projectfindingcalcutta.com
SUMMARY:Fort Worth Volunteers @ SEAS
DESCRIPTION:NOTE: This service event is open to anyone that is Safe Environment trained in Fort Worth diocese. If the RSVP button is not available\, that means the registrations have closed\, sorry. Also\, you will be asked to not attend if you have not signed up for the event and are not in the SE database. \n\n\n\nJoin us for a half day to serve the poorest of the poor in the spirit of Mother Teresa. We will begin with fellowship\, prayer\, and the orientation\, and then we separate into smaller groups to go comfort the elderly at nursing homes\, feed the homeless on the streets\, help the Missionaries of Charity sisters in assisting low income families or homeless pregnant women\, work at a community garden\, make lunch and serve at soup kitchens\, and/or organize items at food pantries. \n\n\n\nMost weeks\, we continue the fellowship by grabbing lunch together (optional) after serving. \n\n\n\nThis is a family friendly event\, so children of all ages are welcome. We encourage everyone to RSVP here\, so we can let the places of service know how many people to expect. Like Mother Teresa said\, “let us do something beautiful for God.” \n\n\n\nSPECIAL INSTRUCTIONS: \n\n\n\n1. LOCATION: Meet us at the Parish hall. Please consider attending the 9 AM Mass first. We will wait for you. \n\n\n\n2. PROJECTS: The event begins at the location below but most of you will go to different service sites after the orientation\, so please don’t be late. \n\n\n\n3. NEW VOLUNTEERS: serving with us for the first-time\, please Register here before RSVPing to this event. Everyone must sign these waivers before volunteering. One Waiver per family is sufficient. \n\n\n\n4. GROUPS: Please send us a message before bringing 10+ volunteers from your group. \n\n\n\n5. MINORS: By serving with us\, everyone is agreeing to these terms and conditions (Liability Waiver). Everyone under 18 attending with a chaperone (without a parent) should print the Liability Waiver and have it signed by the parent BEFORE coming to the event\, and please present it to the Leader as soon as you arrive. \n\n\n\n6. DRESS CODE: Not everyone will serve soup from a kitchen or dig dirt for a garden\, but please dress (casual) to be able to work wherever the need maybe. \n\n\n\n7. PLEASE DO NOT go directly to the service locations\, out of respect for our collaborators\, our legal guidelines\, and for your own safety.
URL:https://projectfindingcalcutta.com/volunteer/fort-worth-seas-15/
LOCATION:St Elizabeth Ann Seton Catholic Church\, 2016 Willis Lane\, Keller\, TX\, 76248\, United States
CATEGORIES:DFW,Fort Worth
ATTACH;FMTTYPE=image/jpeg:https://projectfindingcalcutta.com/wp-content/uploads/2024/04/SEAS-Service-Saturday.jpeg
END:VEVENT
BEGIN:VEVENT
DTSTART;TZID=America/Chicago:20251227T090000
DTEND;TZID=America/Chicago:20251227T120000
DTSTAMP:20260423T161236
CREATED:20251113T185433Z
LAST-MODIFIED:20260311T132446Z
UID:13052-1766826000-1766836800@projectfindingcalcutta.com
SUMMARY:DFW Volunteers @ Missionaries of Charity
DESCRIPTION:Would you like to make a difference? Are you looking for service opportunities? \n\n\n\nJoin us for a half day to serve the poorest of the poor in the spirit of Mother Teresa. We will begin with fellowship\, prayer\, and the orientation\, and then we separate into smaller groups to go comfort the elderly at nursing homes\, work at a community garden\, help the Missionaries of Charity sisters in assisting low income families or homeless pregnant women\, make lunch and serve at soup kitchens\, and/or feed the homeless on the streets. \n\n\n\nMost weeks\, we continue the fellowship by grabbing lunch together (optional) after serving. \n\n\n\nThis is a family friendly event\, so children of all ages are welcome. Service opportunities change every week based on the number of our volunteers and the needs of our community partners. We encourage everyone to RSVP here\, so we can prepare accordingly. Like Mother Teresa said\, “let us do something beautiful for God.” \n\n\n\nSPECIAL INSTRUCTIONS: \n\n\n\n1. LOCATION: Please meet us under the carport\, between Jesus and Mary. \n\n\n\n2. PROJECTS: The event begins at the location below but most of you will go to different service sites after the orientation\, so please don’t be late. \n\n\n\n3. NEW VOLUNTEERS: serving with us for the first-time\, please Register here before RSVPing to this event. Everyone must sign these waivers before volunteering. One Waiver per family is sufficient. \n\n\n\n4. GROUPS: Please send us a message before bringing 10+ volunteers from your group. Otherwise\, volunteering opportunity to your group is not guaranteed. \n\n\n\n5. MINORS: By serving with us\, everyone is agreeing to these terms and conditions (Liability Waiver). Everyone under 18 attending with a chaperone (and without a parent) should print the Liability Waiver and have it signed by the parent BEFORE coming to the event\, and please give it to the Leader as soon as you arrive. \n\n\n\n6. DRESS CODE: Not everyone will serve soup from a kitchen or dig dirt at a garden\, but please dress (casual) to be able to work wherever the need maybe. \n\n\n\n7. PLEASE DO NOT go directly to the service locations\, out of respect for our collaborators\, our legal guidelines\, and for your own safety.
URL:https://projectfindingcalcutta.com/volunteer/dfw-missionaries-of-charity-18/
LOCATION:Missionaries of Charity\, 2727 Harlandale Ave\, Dallas\, TX\, 75216\, United States
CATEGORIES:Dallas,DFW,Fort Worth
ATTACH;FMTTYPE=image/jpeg:https://projectfindingcalcutta.com/wp-content/uploads/2023/05/Service-Saturday-MC.jpeg
END:VEVENT
END:VCALENDAR