BEGIN:VCALENDAR
VERSION:2.0
PRODID:-//Project Finding Calcutta - ECPv6.15.20//NONSGML v1.0//EN
CALSCALE:GREGORIAN
METHOD:PUBLISH
X-WR-CALNAME:Project Finding Calcutta
X-ORIGINAL-URL:https://projectfindingcalcutta.com
X-WR-CALDESC:Events for Project Finding Calcutta
REFRESH-INTERVAL;VALUE=DURATION:PT1H
X-Robots-Tag:noindex
X-PUBLISHED-TTL:PT1H
BEGIN:VTIMEZONE
TZID:America/Chicago
BEGIN:DAYLIGHT
TZOFFSETFROM:-0600
TZOFFSETTO:-0500
TZNAME:CDT
DTSTART:20250309T080000
END:DAYLIGHT
BEGIN:STANDARD
TZOFFSETFROM:-0500
TZOFFSETTO:-0600
TZNAME:CST
DTSTART:20251102T070000
END:STANDARD
BEGIN:DAYLIGHT
TZOFFSETFROM:-0600
TZOFFSETTO:-0500
TZNAME:CDT
DTSTART:20260308T080000
END:DAYLIGHT
BEGIN:STANDARD
TZOFFSETFROM:-0500
TZOFFSETTO:-0600
TZNAME:CST
DTSTART:20261101T070000
END:STANDARD
BEGIN:DAYLIGHT
TZOFFSETFROM:-0600
TZOFFSETTO:-0500
TZNAME:CDT
DTSTART:20270314T080000
END:DAYLIGHT
BEGIN:STANDARD
TZOFFSETFROM:-0500
TZOFFSETTO:-0600
TZNAME:CST
DTSTART:20271107T070000
END:STANDARD
END:VTIMEZONE
BEGIN:VEVENT
DTSTART;TZID=America/Chicago:20260204T150000
DTEND;TZID=America/Chicago:20260204T170000
DTSTAMP:20260423T132241
CREATED:20260127T182525Z
LAST-MODIFIED:20260311T132555Z
UID:13552-1770217200-1770224400@projectfindingcalcutta.com
SUMMARY:Microsoft Volunteer Day (staff only)
DESCRIPTION:Would you like to make a difference? Are you looking for service opportunities? \n\n\n\nJoin us for a half day to serve the poorest of the poor in the spirit of Mother Teresa. She said\, stay where you are… find your own Calcutta… the poor\, sick\, suffering and the lonely are everywhere… if you have the eyes to see. We will begin with a brief orientation at the location below and then separate into smaller groups (if there is a lot of participation) to go comfort the elderly at the local nursing homes. \n\n\n\nEveryone that is planning to attend must RSVP here\, so we can let the places of service know how many people to expect. Like Mother Teresa said\, let us do “small things with great love.” \n\n\n\nINSTRUCTIONS:1. If this is your first time volunteering with us\, in addition to RSVPing below please also Register here (to sign the waiver). \n\n\n\n2. Meet us at the meeting room Mr. Calvin Quenum will specify in a follow up email. \n\n\n\n3. This is where it begins but you will go to different location(s) after the fellowship and orientation\, so don’t be late. \n\n\n\n4. There is no dress code to visit nursing homes. However\, if you are sick\, it is best that you do not participate this time. \n\n\n\n5. By serving with us\, you are agreeing to these terms and conditions (Liability Waiver). Everyone under 18 attending without a parent but with a chaperone should print the Liability Waiver and have it signed by the parent before coming to the event. \n\n\n\n6. Please do not go directly to the service locations\, out of respect for our collaborators\, our legal guidelines\, and your own safety. \n\n\n\n7. Please like us on Facebook\, follow us on Instagram\, and join GroupMe to be notified about upcoming events.
URL:https://projectfindingcalcutta.com/volunteer/microsoft/
LOCATION:Microsoft\, 7000 State Hwy 161\, Irving\, Texas\, 75039\, United States
CATEGORIES:Dallas,DFW,Fort Worth
ATTACH;FMTTYPE=image/jpeg:https://projectfindingcalcutta.com/wp-content/uploads/2023/10/IMG-20210811-WA0004.jpg
END:VEVENT
BEGIN:VEVENT
DTSTART;TZID=America/Chicago:20260207T090000
DTEND;TZID=America/Chicago:20260207T120000
DTSTAMP:20260423T132241
CREATED:20260205T211609Z
LAST-MODIFIED:20260311T132604Z
UID:13617-1770454800-1770465600@projectfindingcalcutta.com
SUMMARY:DFW Volunteers @ Missionaries of Charity
DESCRIPTION:Would you like to make a difference? Are you looking for service opportunities? \n\n\n\nJoin us for a half day to serve the poorest of the poor in the spirit of Mother Teresa. We will begin with fellowship\, prayer\, and the orientation\, and then we separate into smaller groups to go comfort the elderly at nursing homes\, work at a community garden\, help the Missionaries of Charity sisters in assisting low income families or homeless pregnant women\, make lunch and serve at soup kitchens\, and/or feed the homeless on the streets. \n\n\n\nMost weeks\, we continue the fellowship by grabbing lunch together (optional) after serving. \n\n\n\nThis is a family friendly event\, so children of all ages are welcome. Service opportunities change every week based on the number of our volunteers and the needs of our community partners. We encourage everyone to RSVP here\, so we can prepare accordingly. Like Mother Teresa said\, “let us do something beautiful for God.” \n\n\n\nSPECIAL INSTRUCTIONS: \n\n\n\n1. LOCATION: Please meet us under the carport\, between Jesus and Mary. \n\n\n\n2. PROJECTS: The event begins at the location below but most of you will go to different service sites after the orientation\, so please don’t be late. \n\n\n\n3. NEW VOLUNTEERS: serving with us for the first-time\, please Register here before RSVPing to this event. Everyone must sign these waivers before volunteering. One Waiver per family is sufficient. \n\n\n\n4. GROUPS: Please send us a message before bringing 10+ volunteers from your group. Otherwise\, volunteering opportunity to your group is not guaranteed. \n\n\n\n5. MINORS: By serving with us\, everyone is agreeing to these terms and conditions (Liability Waiver). Everyone under 18 attending with a chaperone (and without a parent) should print the Liability Waiver and have it signed by the parent BEFORE coming to the event\, and please give it to the Leader as soon as you arrive. \n\n\n\n6. DRESS CODE: Not everyone will serve soup from a kitchen or dig dirt at a garden\, but please dress (casual) to be able to work wherever the need maybe. \n\n\n\n7. PLEASE DO NOT go directly to the service locations\, out of respect for our collaborators\, our legal guidelines\, and for your own safety.
URL:https://projectfindingcalcutta.com/volunteer/dfw-missionaries-of-charity-23/
LOCATION:Missionaries of Charity\, 2727 Harlandale Ave\, Dallas\, TX\, 75216\, United States
CATEGORIES:Dallas,DFW,Fort Worth
ATTACH;FMTTYPE=image/jpeg:https://projectfindingcalcutta.com/wp-content/uploads/2023/05/Service-Saturday-MC.jpeg
END:VEVENT
BEGIN:VEVENT
DTSTART;TZID=America/Chicago:20260207T123000
DTEND;TZID=America/Chicago:20260207T140000
DTSTAMP:20260423T132241
CREATED:20260109T074840Z
LAST-MODIFIED:20260311T132612Z
UID:13446-1770467400-1770472800@projectfindingcalcutta.com
SUMMARY:Dilexi Te Lecture Series – I Have Loved You
DESCRIPTION:School of Service: A CHURCH WHICH IS POOR AND FOR THE POOR(A Dilexi Te Lecture) \n\n\n\nThe School of Service is a collaborative initiative offering a deeper look into the Catholic Church’s Social Teachings. In 2026\, we are dealing with a new kind of poverty in a new world. Rapidly changing technology is shaping societies and changing lifestyles. \n\n\n\nProject Finding Calcutta is partnering with University of Dallas Campus Ministry to unpack Pope Leo’s first apostolic exhortation\, Dilexi Te. This brief and powerful document addresses different kinds of poverty and what our duties are as Christians. Come and be enlightened by the wisdom of the Church and what it means to quench Jesus’ thirst. \n\n\n\nThe event begins with fellowship over a light lunch\, followed by a presentation and a small group workshop. \n\n\n\n\n\n\n\nSPEAKER \n\n\n\nDr. Juan Rendon Director of Social Ministry (Diocese of Dallas)Dr. Rendon grew up in Mexico and Houston\, Texas. He earned a bachelor’s degree from the University of Dallas in Irving\, master’s degrees in theology and pastoral ministry from the University of St. Thomas in Houston; and a doctorate in spirituality from The Catholic University of America in Washington\, D.C. \n\n\n\nDr. Rendon is the Director of Social Ministry for the Diocese of Dallas. He previously worked as a full-time affiliate instructor at the University of Dallas School of Ministry\, as coordinator of the pastoral dimension of formation at Holy Trinity Seminary in Irving\, and most recently as director of the diaconate formation program for the Diocese of Fort Worth. In addition\, Dr. Rendon serves as an adjunct professor of theological and pastoral studies for the Mexican American Catholic College in San Antonio.Dr. Rendon and his wife Anna have 5 children and they are parishioners of St. Jude’s. \n\n\n\nVENUE \n\n\n\nThe lecture will take place at the UD Catholic Center in the Anselm Hall at University of Dallas. Please follow the signs for Anselm Hall (or ask any student on Campus). After you locate the building\, you will find us at the Catholic Center on the 2nd floor.
URL:https://projectfindingcalcutta.com/volunteer/dilexi-te-lecture-series-i-have-loved-you-school-of-service/
LOCATION:University of Dallas\, 1845 E Northgate Drive\, Irving\, TX\, 75062\, United States
CATEGORIES:Dallas,DFW,Fort Worth
ATTACH;FMTTYPE=image/jpeg:https://projectfindingcalcutta.com/wp-content/uploads/2026/01/School-of-Service-Dilexi-Te-Juan-Rendon-1.jpg
END:VEVENT
BEGIN:VEVENT
DTSTART;TZID=America/Chicago:20260214T090000
DTEND;TZID=America/Chicago:20260214T120000
DTSTAMP:20260423T132241
CREATED:20260205T211943Z
LAST-MODIFIED:20260311T132620Z
UID:13620-1771059600-1771070400@projectfindingcalcutta.com
SUMMARY:DFW Volunteers @ Missionaries of Charity
DESCRIPTION:Would you like to make a difference? Are you looking for service opportunities? \n\n\n\nJoin us for a half day to serve the poorest of the poor in the spirit of Mother Teresa. We will begin with fellowship\, prayer\, and the orientation\, and then we separate into smaller groups to go comfort the elderly at nursing homes\, work at a community garden\, help the Missionaries of Charity sisters in assisting low income families or homeless pregnant women\, make lunch and serve at soup kitchens\, and/or feed the homeless on the streets. \n\n\n\nMost weeks\, we continue the fellowship by grabbing lunch together (optional) after serving. \n\n\n\nThis is a family friendly event\, so children of all ages are welcome. Service opportunities change every week based on the number of our volunteers and the needs of our community partners. We encourage everyone to RSVP here\, so we can prepare accordingly. Like Mother Teresa said\, “let us do something beautiful for God.” \n\n\n\nSPECIAL INSTRUCTIONS: \n\n\n\n1. LOCATION: Please meet us under the carport\, between Jesus and Mary. \n\n\n\n2. PROJECTS: The event begins at the location below but most of you will go to different service sites after the orientation\, so please don’t be late. \n\n\n\n3. NEW VOLUNTEERS: serving with us for the first-time\, please Register here before RSVPing to this event. Everyone must sign these waivers before volunteering. One Waiver per family is sufficient. \n\n\n\n4. GROUPS: Please send us a message before bringing 10+ volunteers from your group. Otherwise\, volunteering opportunity to your group is not guaranteed. \n\n\n\n5. MINORS: By serving with us\, everyone is agreeing to these terms and conditions (Liability Waiver). Everyone under 18 attending with a chaperone (and without a parent) should print the Liability Waiver and have it signed by the parent BEFORE coming to the event\, and please give it to the Leader as soon as you arrive. \n\n\n\n6. DRESS CODE: Not everyone will serve soup from a kitchen or dig dirt at a garden\, but please dress (casual) to be able to work wherever the need maybe. \n\n\n\n7. PLEASE DO NOT go directly to the service locations\, out of respect for our collaborators\, our legal guidelines\, and for your own safety.
URL:https://projectfindingcalcutta.com/volunteer/dfw-missionaries-of-charity-24/
LOCATION:Missionaries of Charity\, 2727 Harlandale Ave\, Dallas\, TX\, 75216\, United States
CATEGORIES:Dallas,DFW,Fort Worth
ATTACH;FMTTYPE=image/jpeg:https://projectfindingcalcutta.com/wp-content/uploads/2023/05/Service-Saturday-MC.jpeg
END:VEVENT
BEGIN:VEVENT
DTSTART;TZID=America/Chicago:20260221T090000
DTEND;TZID=America/Chicago:20260221T120000
DTSTAMP:20260423T132241
CREATED:20250512T231038Z
LAST-MODIFIED:20250512T231039Z
UID:11941-1771664400-1771675200@projectfindingcalcutta.com
SUMMARY:Dallas Volunteers @ St Gabriel
DESCRIPTION:Would you like to make a difference? Are you looking for service opportunities? \n\n\n\nJoin us for a half day to serve the poorest of the poor in the spirit of Mother Teresa. We will begin with fellowship\, prayer\, and the orientation\, and then we separate into smaller groups to go comfort the elderly at nursing homes\, feed the homeless on the streets\, help the Missionaries of Charity sisters in assisting low income families or homeless pregnant women\, work at a community garden\, make lunch and serve at soup kitchens\, and/or organize items at food pantries. \n\n\n\nMost weeks\, we continue the fellowship by grabbing lunch together (optional) after serving. \n\n\n\nThis is a family friendly event\, so children of all ages are welcome. We encourage everyone to RSVP here\, so we can let the places of service know how many people to expect. Like Mother Teresa said\, “let us do something beautiful for God.” \n\n\n\nSPECIAL INSTRUCTIONS: \n\n\n\n1. LOCATION: Meet us at the parish hall/gym. Please follow the signs. \n\n\n\n2. PROJECTS: The event begins at the location below but most of you will go to different service sites after the orientation\, so please don’t be late. \n\n\n\n3. NEW VOLUNTEERS: serving with us for the first-time\, please Register here before RSVPing to this event. Everyone must sign these waivers before volunteering. One Waiver per family is sufficient. \n\n\n\n4. GROUPS: Please send us a message before bringing 10+ volunteers from your group. \n\n\n\n5. MINORS: By serving with us\, everyone is agreeing to these terms and conditions (Liability Waiver). Everyone under 18 attending with a chaperone (without a parent) should print the Liability Waiver and have it signed by the parent BEFORE coming to the event\, and please present it to the Leader as soon as you arrive. \n\n\n\n6. DRESS CODE: Not everyone will serve soup from a kitchen or dig dirt for a garden\, but please dress (casual) to be able to work wherever the need maybe. \n\n\n\n7. PLEASE DO NOT go directly to the service locations\, out of respect for our collaborators\, our legal guidelines\, and for your own safety.
URL:https://projectfindingcalcutta.com/volunteer/dallas-st-gabriel-9/
LOCATION:St Gabriel the Archangel Catholic Community\, 110 St Gabriel Way\, McKinney\, TX\, 75071\, United States
CATEGORIES:Dallas,DFW
ATTACH;FMTTYPE=image/jpeg:https://projectfindingcalcutta.com/wp-content/uploads/2023/05/St-Gabriel-Service-Saturday.jpeg
END:VEVENT
BEGIN:VEVENT
DTSTART;TZID=America/Chicago:20260221T090000
DTEND;TZID=America/Chicago:20260221T130000
DTSTAMP:20260423T132241
CREATED:20260121T212424Z
LAST-MODIFIED:20260311T132628Z
UID:13523-1771664400-1771678800@projectfindingcalcutta.com
SUMMARY:Dallas Volunteers @ SMU (students only)
DESCRIPTION:Would you like to make a difference? Are you looking for service opportunities? \n\n\n\nJoin us for a half day to serve the poorest of the poor in the spirit of Mother Teresa. We will begin with Mass\, fellowship\, reflection\, and the orientation\, and then we separate into smaller groups to go comfort the elderly at nursing homes\, help the Missionaries of Charity sisters in assisting low income families\, and/or feed the homeless on the streets. \n\n\n\nMeet us back at SMU to continue the fellowship by grabbing lunch (provided) together after serving. \n\n\n\nWe encourage everyone to RSVP here\, so we can let the places of service know how many people to expect. Like Mother Teresa said\, “let us do something beautiful for God.” \n\n\n\nSPECIAL INSTRUCTIONS: \n\n\n\n1. LOCATION: Meet us at “The C” on campus (3057 University Blvd). \n\n\n\n2. PROJECTS: The event begins at the location below but most of you will go to different service sites after the orientation\, so please don’t be late. \n\n\n\n3. NEW VOLUNTEERS: serving with us for the first-time\, please Register here before RSVPing to this event. Everyone must sign these waivers before volunteering. One Waiver per family is sufficient. \n\n\n\n4. MINORS: By serving with us\, everyone is agreeing to these terms and conditions (Liability Waiver). Everyone under 18 attending with a chaperone (without a parent) should print the Liability Waiver and have it signed by the parent BEFORE coming to the event\, and please present it to the Leader as soon as you arrive. \n\n\n\n5. DRESS CODE: Not everyone will serve soup from a kitchen or dig dirt for a garden\, but please dress (casual) to be able to work wherever the need maybe. \n\n\n\n6. PLEASE DO NOT go directly to the service locations\, out of respect for our collaborators\, our legal guidelines\, and for your own safety.
URL:https://projectfindingcalcutta.com/volunteer/dallas-smu/
LOCATION:The C at SMU\, 3057 University Blvd\, Dallas\, Texas\, 75205\, United States
CATEGORIES:Dallas,DFW
ATTACH;FMTTYPE=image/jpeg:https://projectfindingcalcutta.com/wp-content/uploads/2023/10/IMG-20210811-WA0004.jpg
END:VEVENT
BEGIN:VEVENT
DTSTART;TZID=America/Chicago:20260228T090000
DTEND;TZID=America/Chicago:20260228T120000
DTSTAMP:20260423T132241
CREATED:20260126T193852Z
LAST-MODIFIED:20260311T132638Z
UID:13539-1772269200-1772280000@projectfindingcalcutta.com
SUMMARY:Dallas Volunteers @ Cistercian (students & parents ONLY)
DESCRIPTION:Would you like to make a difference? Are you looking for service opportunities? \n\n\n\nJoin us for a half day to serve the poorest of the poor in the spirit of Mother Teresa. We will begin with fellowship and prayer at 9 a.m. and then separate into smaller groups to go comfort the elderly at nursing homes (TBD) in the area. \n\n\n\nMost weeks\, we continue the fellowship by grabbing lunch together (optional) after serving. It really helps with the unpacking of the experience. \n\n\n\nThis is a family friendly event\, so children of all ages are welcome. Service opportunities change every week based on the number of our volunteers and the needs of our community partners. Everyone that is planning to attend must RSVP here\, so we can let the places of service know how many people to expect. Like Mother Teresa said\, “let us do something beautiful for God.” \n\n\n\nINSTRUCTIONS:1. If this is your first time volunteering with us\, please Register here first. Then RSVP below. \n\n\n\n2. Meet us at Cistercian. \n\n\n\n3. This is where it begins but most of you will go to different locations after the fellowship\, orientation\, and prayer\, so don’t be late. \n\n\n\n4. Not everyone will work in a soup kitchen or in a garden\, but please dress (casual) to be able to work wherever the need maybe. \n\n\n\n5. By serving with us\, you are agreeing to these terms and conditions (Liability Waiver). Everyone under 18 attending without a parent but with a chaperone should print the Liability Waiver and have it signed by the parent before coming to the event. \n\n\n\n6. Please do not go directly to the service locations\, out of respect for our collaborators\, our legal guidelines\, and your own safety. \n\n\n\n7. Please like us on Facebook\, follow us on Instagram\, and join GroupMe to be notified about upcoming events.
URL:https://projectfindingcalcutta.com/volunteer/dallas-cistercian-3/
LOCATION:Cistercian Prep School\, 3660 Cistercian Rd\, Irving\, Texas\, 75039
CATEGORIES:Dallas,DFW,Fort Worth
ATTACH;FMTTYPE=image/jpeg:https://projectfindingcalcutta.com/wp-content/uploads/2023/10/IMG-20210811-WA0004.jpg
END:VEVENT
BEGIN:VEVENT
DTSTART;TZID=America/Chicago:20260228T093000
DTEND;TZID=America/Chicago:20260228T123000
DTSTAMP:20260423T132241
CREATED:20260224T211116Z
LAST-MODIFIED:20260311T132645Z
UID:13805-1772271000-1772281800@projectfindingcalcutta.com
SUMMARY:DFW Volunteers @ St Mary the Virgin
DESCRIPTION:Would you like to make a difference? Are you looking for service opportunities? \n\n\n\nJoin us for a half day to serve the poorest of the poor in the spirit of Mother Teresa. We will begin with fellowship\, prayer\, and the orientation\, and then we separate into smaller groups to go comfort the elderly at nursing homes\, feed the homeless on the streets\, help the Missionaries of Charity sisters in assisting low income families or homeless pregnant women\, work at a community garden\, make lunch and serve at soup kitchens\, and/or organize items at food pantries. \n\n\n\nMost weeks\, we continue the fellowship by grabbing lunch together (optional) after serving. \n\n\n\nThis is a family friendly event\, so children of all ages are welcome. We encourage everyone to RSVP here\, so we can let the places of service know how many people to expect. Like Mother Teresa said\, “let us do something beautiful for God.” \n\n\n\nSPECIAL INSTRUCTIONS: \n\n\n\n1. LOCATION: Meet us in front of the Church. Please consider attending the 9 AM Mass first. \n\n\n\n2. PROJECTS: The event begins at the location below but most of you will go to different service sites after the orientation\, so please don’t be late. \n\n\n\n3. NEW VOLUNTEERS: serving with us for the first-time\, please Register here before RSVPing to this event. Everyone must sign these waivers before volunteering. One Waiver per family is sufficient. \n\n\n\n4. GROUPS: Please send us a message before bringing 10+ volunteers from your group. \n\n\n\n5. MINORS: By serving with us\, everyone is agreeing to these terms and conditions (Liability Waiver). Everyone under 18 attending with a chaperone (without a parent) should print the Liability Waiver and have it signed by the parent BEFORE coming to the event\, and please present it to the Leader as soon as you arrive. \n\n\n\n6. DRESS CODE: Not everyone will serve soup from a kitchen or dig dirt for a garden\, but please dress (casual) to be able to work wherever the need maybe. \n\n\n\n7. PLEASE DO NOT go directly to the service locations\, out of respect for our collaborators\, our legal guidelines\, and for your own safety.
URL:https://projectfindingcalcutta.com/volunteer/dfw-st-mary-the-virgin-15/
LOCATION:St Mary the Virgin\, 1408 N Davis Dr.\, Arlington\, Texas\, 76012\, United States
CATEGORIES:Dallas,DFW,Fort Worth
ATTACH;FMTTYPE=image/jpeg:https://projectfindingcalcutta.com/wp-content/uploads/2023/09/SMV-Saturdays.jpeg
END:VEVENT
BEGIN:VEVENT
DTSTART;TZID=America/Chicago:20260228T150000
DTEND;TZID=America/Chicago:20260228T170000
DTSTAMP:20260423T132241
CREATED:20260224T213056Z
LAST-MODIFIED:20260311T132652Z
UID:13808-1772290800-1772298000@projectfindingcalcutta.com
SUMMARY:DFW Volunteers @ Nursing Homes
DESCRIPTION:Would you like to make a difference? Are you looking for service opportunities? \n\n\n\nJoin us for a half day to serve the poorest of the poor in the spirit of Mother Teresa. She said\, stay where you are… find your own Calcutta… the poor\, sick\, suffering and the lonely are everywhere… if you have the eyes to see. We will begin with a brief orientation at the location below and then separate into smaller groups to go comfort the sick\, suffering\, and the lonely at local nursing homes. \n\n\n\nMost weeks\, we continue the fellowship by grabbing dinner together (optional) after serving. \n\n\n\nThis is a family friendly event\, so children of all ages are welcome. Everyone that is planning to attend must RSVP here\, so we can let the places of service know how many people to expect. Like Mother Teresa said\, let us do “small things with great love.” \n\n\n\nINSTRUCTIONS:1. If this is your first time volunteering with us\, in addition to RSVPing below please also Register here (to sign the waiver). \n\n\n\n2. Meet us at the UD Tower. \n\n\n\n3. This is where it begins but you will go to different location(s) after the fellowship and orientation\, so don’t be late. \n\n\n\n4. There is no dress code to visit nursing homes. However\, if you are sick\, it is best that you do not participate this time. \n\n\n\n5. By serving with us\, you are agreeing to these terms and conditions (Liability Waiver). Everyone under 18 attending without a parent but with a chaperone should print the Liability Waiver and have it signed by the parent before coming to the event. \n\n\n\n6. Please do not go directly to the service locations\, out of respect for our collaborators\, our legal guidelines\, and your own safety. \n\n\n\n7. Please like us on Facebook\, follow us on Instagram\, and join GroupMe to be notified about upcoming events.
URL:https://projectfindingcalcutta.com/volunteer/dfw-nursing-homes/
LOCATION:University of Dallas\, 1845 E Northgate Drive\, Irving\, TX\, 75062\, United States
CATEGORIES:Dallas,DFW,Fort Worth
ATTACH;FMTTYPE=image/jpeg:https://projectfindingcalcutta.com/wp-content/uploads/2025/09/Senior-Friendships.jpeg
END:VEVENT
END:VCALENDAR