BEGIN:VCALENDAR
VERSION:2.0
PRODID:-//Project Finding Calcutta - ECPv6.15.20//NONSGML v1.0//EN
CALSCALE:GREGORIAN
METHOD:PUBLISH
X-WR-CALNAME:Project Finding Calcutta
X-ORIGINAL-URL:https://projectfindingcalcutta.com
X-WR-CALDESC:Events for Project Finding Calcutta
REFRESH-INTERVAL;VALUE=DURATION:PT1H
X-Robots-Tag:noindex
X-PUBLISHED-TTL:PT1H
BEGIN:VTIMEZONE
TZID:America/Chicago
BEGIN:DAYLIGHT
TZOFFSETFROM:-0600
TZOFFSETTO:-0500
TZNAME:CDT
DTSTART:20230312T080000
END:DAYLIGHT
BEGIN:STANDARD
TZOFFSETFROM:-0500
TZOFFSETTO:-0600
TZNAME:CST
DTSTART:20231105T070000
END:STANDARD
BEGIN:DAYLIGHT
TZOFFSETFROM:-0600
TZOFFSETTO:-0500
TZNAME:CDT
DTSTART:20240310T080000
END:DAYLIGHT
BEGIN:STANDARD
TZOFFSETFROM:-0500
TZOFFSETTO:-0600
TZNAME:CST
DTSTART:20241103T070000
END:STANDARD
BEGIN:DAYLIGHT
TZOFFSETFROM:-0600
TZOFFSETTO:-0500
TZNAME:CDT
DTSTART:20250309T080000
END:DAYLIGHT
BEGIN:STANDARD
TZOFFSETFROM:-0500
TZOFFSETTO:-0600
TZNAME:CST
DTSTART:20251102T070000
END:STANDARD
END:VTIMEZONE
BEGIN:VEVENT
DTSTART;TZID=America/Chicago:20240128T123000
DTEND;TZID=America/Chicago:20240128T163000
DTSTAMP:20260425T161341
CREATED:20240108T212848Z
LAST-MODIFIED:20240108T212849Z
UID:6776-1706445000-1706459400@projectfindingcalcutta.com
SUMMARY:Leisure Lord's Day
DESCRIPTION:Join us for an UNPLUGGED afternoon to enjoy the Lord’s Day. Disconnect yourself from the busyness of life and experience joy as you relax. We are a tired generation. We need to relearn the art of leisure. \n\n\n\nPFC invites you to enjoy a delicious lunch (provided)\, play games\, chat\, pray and relax with one another’s company. We only have 2 rules. We commit to the whole afternoon. And we leave our cellphones on the kitchen counter. Feel free to bring special beverages\, but not required. \n\n\n\nSpots are limited because we are intentionally keeping these events smaller and you will be able to RSVP on first come first served basis. Registration will close when all the spots are filled. The venue will be confirmed the day before the event .
URL:https://projectfindingcalcutta.com/volunteer/leisure-lords-day/
LOCATION:Texas
CATEGORIES:Dallas,DFW,Fort Worth
ATTACH;FMTTYPE=image/jpeg:https://projectfindingcalcutta.com/wp-content/uploads/2023/10/Lords-day-Leisure.jpeg
END:VEVENT
END:VCALENDAR