BEGIN:VCALENDAR
VERSION:2.0
PRODID:-//Project Finding Calcutta - ECPv6.15.20//NONSGML v1.0//EN
CALSCALE:GREGORIAN
METHOD:PUBLISH
X-ORIGINAL-URL:https://projectfindingcalcutta.com
X-WR-CALDESC:Events for Project Finding Calcutta
REFRESH-INTERVAL;VALUE=DURATION:PT1H
X-Robots-Tag:noindex
X-PUBLISHED-TTL:PT1H
BEGIN:VTIMEZONE
TZID:America/Chicago
BEGIN:DAYLIGHT
TZOFFSETFROM:-0600
TZOFFSETTO:-0500
TZNAME:CDT
DTSTART:20230312T080000
END:DAYLIGHT
BEGIN:STANDARD
TZOFFSETFROM:-0500
TZOFFSETTO:-0600
TZNAME:CST
DTSTART:20231105T070000
END:STANDARD
BEGIN:DAYLIGHT
TZOFFSETFROM:-0600
TZOFFSETTO:-0500
TZNAME:CDT
DTSTART:20240310T080000
END:DAYLIGHT
BEGIN:STANDARD
TZOFFSETFROM:-0500
TZOFFSETTO:-0600
TZNAME:CST
DTSTART:20241103T070000
END:STANDARD
BEGIN:DAYLIGHT
TZOFFSETFROM:-0600
TZOFFSETTO:-0500
TZNAME:CDT
DTSTART:20250309T080000
END:DAYLIGHT
BEGIN:STANDARD
TZOFFSETFROM:-0500
TZOFFSETTO:-0600
TZNAME:CST
DTSTART:20251102T070000
END:STANDARD
END:VTIMEZONE
BEGIN:VEVENT
DTSTART;TZID=America/Chicago:20240608T090000
DTEND;TZID=America/Chicago:20240608T123000
DTSTAMP:20260425T070555
CREATED:20230504T155026Z
LAST-MODIFIED:20230504T155026Z
UID:5135-1717837200-1717849800@projectfindingcalcutta.com
SUMMARY:Dallas Volunteers @ St Gabriel’s
DESCRIPTION:Would you like to make a difference? Are you looking for service opportunities? \n\n\n\nJoin us for a half day to serve the poorest of the poor in the spirit of Mother Teresa. We will begin with fellowship and prayer at 9 a.m. and then separate into smaller groups to go comfort the elderly at nursing homes or do garden work for them\, help the Missionaries of Charity sisters in assisting low income families\, make lunch and serve at homeless shelters\, organize items at food pantries\, and/or feed the homeless on the streets. We usually finish around 12:30 p.m.\, but there will be lunch (optional) afterwards. \n\n\n\nThis is a family friendly event. Everyone that is planning to attend must RSVP here\, so we can let the places of service know how many people to expect. Like Mother Teresa said\, “let us do something beautiful for God.” \n\n\n\nINSTRUCTIONS:1. If this is your first time volunteering with us\, please Register here. \n\n\n\n2. Meet us at the Parish hall/gym. There will be signs. \n\n\n\n3. This is where it begins but most of you will go to different locations after the fellowship\, orientation\, and prayer\, so don’t be late. \n\n\n\n4. Not everyone will work in a soup kitchen or in a garden\, but please dress (casual) to be able to work wherever the need maybe. \n\n\n\n5. By serving with us\, you are agreeing to these terms and conditions (Liability Waiver). Everyone under 18 attending with a chaperone should print the Liability Waiver and have it signed by the parent before coming to the event. \n\n\n\n6. Please do not go directly to the service locations\, out of respect for our collaborators\, our legal guidelines\, and your own safety. \n\n\n\n7. Please like us on Facebook\, follow us on Instagram\, and join GroupMe to be notified about upcoming events.
URL:https://projectfindingcalcutta.com/volunteer/dallas-st-gabriels-10/
LOCATION:St Gabriel the Archangel Catholic Community\, 110 St Gabriel Way\, McKinney\, TX\, 75071\, United States
CATEGORIES:Dallas,DFW
ATTACH;FMTTYPE=image/jpeg:https://projectfindingcalcutta.com/wp-content/uploads/2023/05/St-Gabriel-Service-Saturday.jpeg
END:VEVENT
END:VCALENDAR