BEGIN:VCALENDAR
VERSION:2.0
PRODID:-//Project Finding Calcutta - ECPv6.15.20//NONSGML v1.0//EN
CALSCALE:GREGORIAN
METHOD:PUBLISH
X-ORIGINAL-URL:https://projectfindingcalcutta.com
X-WR-CALDESC:Events for Project Finding Calcutta
REFRESH-INTERVAL;VALUE=DURATION:PT1H
X-Robots-Tag:noindex
X-PUBLISHED-TTL:PT1H
BEGIN:VTIMEZONE
TZID:America/Chicago
BEGIN:DAYLIGHT
TZOFFSETFROM:-0600
TZOFFSETTO:-0500
TZNAME:CDT
DTSTART:20230312T080000
END:DAYLIGHT
BEGIN:STANDARD
TZOFFSETFROM:-0500
TZOFFSETTO:-0600
TZNAME:CST
DTSTART:20231105T070000
END:STANDARD
BEGIN:DAYLIGHT
TZOFFSETFROM:-0600
TZOFFSETTO:-0500
TZNAME:CDT
DTSTART:20240310T080000
END:DAYLIGHT
BEGIN:STANDARD
TZOFFSETFROM:-0500
TZOFFSETTO:-0600
TZNAME:CST
DTSTART:20241103T070000
END:STANDARD
BEGIN:DAYLIGHT
TZOFFSETFROM:-0600
TZOFFSETTO:-0500
TZNAME:CDT
DTSTART:20250309T080000
END:DAYLIGHT
BEGIN:STANDARD
TZOFFSETFROM:-0500
TZOFFSETTO:-0600
TZNAME:CST
DTSTART:20251102T070000
END:STANDARD
END:VTIMEZONE
BEGIN:VEVENT
DTSTART;TZID=America/Chicago:20240905T170000
DTEND;TZID=America/Chicago:20240905T203000
DTSTAMP:20260424T213021
CREATED:20240820T171918Z
LAST-MODIFIED:20240830T151419Z
UID:9072-1725555600-1725568200@projectfindingcalcutta.com
SUMMARY:An Evening with Mother Teresa
DESCRIPTION:September 5th is Mother Teresa’s feast day and also Project Finding Calcutta is celebrating its 5th anniversary! You and your friends are invited to join us for an Evening with Mother Teresa\, a family-friendly event featuring live music\, fun games\, inspiring talks\, and amazing Indian food! The festival will go from 6:00 – 7:30 PM in the Holy Family of Nazareth Parish Hall\, Irving\, but the Happy Hour with snacks\, drinks\, and games will start at 5 PM. Entry is FREE for those who RSVP here! \n\n\n\n \n\n\n\n\n\n\n\n\n\n\n\nSPONSORSHIP OPPORTUNITIES \n\n\n\nEntry – FREETable Sponsor – $300(dinner for 8 + table signage)Service Saturday Sponsor – $500(dinner for 8 + online recognition + PFC will host a service project at a parish\, school\, or company)Summer Camp Sponsor – $1\,000(dinner for 8 + online recognition + free camp for children from one family)Missionary Sponsor – $3\,000(dinner for 8 + online recognition + religious gifts)Event Sponsor – $5\,000(Dinner for 8 + online and live recognition + religious gifts + Mass offering at the tomb of Mother Teresa)Chapter Sponsor – $10\,000(Dinner for 8 + online and live recognition + religious gifts + Mass offering at the tomb of Mother Teresa + your logo on our print branding)
URL:https://projectfindingcalcutta.com/volunteer/an-evening-with-mother-teresa/
LOCATION:Holy Family of Nazareth\, 2323 Cheyenne St.\, Irving\, Texas\, 75062\, United States
CATEGORIES:Dallas,DFW,Fort Worth
ATTACH;FMTTYPE=image/png:https://projectfindingcalcutta.com/wp-content/uploads/2021/05/An-Evening-with-Mother-Teresa-2021.png
END:VEVENT
END:VCALENDAR