BEGIN:VCALENDAR
VERSION:2.0
PRODID:-//Project Finding Calcutta - ECPv6.15.20//NONSGML v1.0//EN
CALSCALE:GREGORIAN
METHOD:PUBLISH
X-WR-CALNAME:Project Finding Calcutta
X-ORIGINAL-URL:https://projectfindingcalcutta.com
X-WR-CALDESC:Events for Project Finding Calcutta
REFRESH-INTERVAL;VALUE=DURATION:PT1H
X-Robots-Tag:noindex
X-PUBLISHED-TTL:PT1H
BEGIN:VTIMEZONE
TZID:America/Chicago
BEGIN:DAYLIGHT
TZOFFSETFROM:-0600
TZOFFSETTO:-0500
TZNAME:CDT
DTSTART:20230312T080000
END:DAYLIGHT
BEGIN:STANDARD
TZOFFSETFROM:-0500
TZOFFSETTO:-0600
TZNAME:CST
DTSTART:20231105T070000
END:STANDARD
BEGIN:DAYLIGHT
TZOFFSETFROM:-0600
TZOFFSETTO:-0500
TZNAME:CDT
DTSTART:20240310T080000
END:DAYLIGHT
BEGIN:STANDARD
TZOFFSETFROM:-0500
TZOFFSETTO:-0600
TZNAME:CST
DTSTART:20241103T070000
END:STANDARD
BEGIN:DAYLIGHT
TZOFFSETFROM:-0600
TZOFFSETTO:-0500
TZNAME:CDT
DTSTART:20250309T080000
END:DAYLIGHT
BEGIN:STANDARD
TZOFFSETFROM:-0500
TZOFFSETTO:-0600
TZNAME:CST
DTSTART:20251102T070000
END:STANDARD
END:VTIMEZONE
BEGIN:VEVENT
DTSTART;TZID=America/Chicago:20241109T090000
DTEND;TZID=America/Chicago:20241109T120000
DTSTAMP:20260424T191503
CREATED:20240928T233929Z
LAST-MODIFIED:20240929T013950Z
UID:9650-1731142800-1731153600@projectfindingcalcutta.com
SUMMARY:Dallas Volunteers @ St Basil
DESCRIPTION:Would you like to make a difference? Are you looking for service opportunities? \n\n\n\nJoin us for a half day to serve the poorest of the poor in the spirit of Mother Teresa. We will begin with check-in\, fellowship\, and the orientation\, and then separate into smaller groups to go comfort the elderly at nursing homes or do garden work for them\, help the Missionaries of Charity sisters in assisting low income families\, make lunch and serve at homeless shelters\, organize items at food pantries\, and/or feed the homeless on the streets.We usually finish around Noon\, and continue the fellowship by grabbing lunch together afterwards (optional). \n\n\n\nThis is a family friendly event\, so children of all ages are welcome. We encourage everyone to RSVP here\, so we can let the places of service know how many people to expect. Like Mother Teresa said\, “let us do something beautiful for God.” \n\n\n\nINSTRUCTIONS:1. NEW VOLUNTEERS: If this is your first time with us\, please sign the mandatory waiver here before RSVPing to this event. \n\n\n\n2. LOCATION: Meet us in the parking lot. \n\n\n\n3. PROJECTS: This is where it begins but most of you will go to different service sites after the fellowship\, orientation\, and prayer\, so don’t be late. Projects change every week based on the needs but you will be given the options to choose from. \n\n\n\n4. GROUPS: Please send us a message before bringing 10+ volunteers from your group. \n\n\n\n5. DRESS CODE: Not everyone will serve soup at a shelter or dig dirt for a garden\, but please dress (casual) to be able to work wherever the need maybe. \n\n\n\n6. MINORS: By serving with us\, everyone is agreeing to these terms and conditions (Liability Waiver). Parents must print and sign the Liability Waiver for all minors attending with a chaperone (without a parent) and make sure it reaches the Leader as soon as they arrive. \n\n\n\n7. PLEASE DO NOT go directly to the service locations\, out of respect for our collaborators\, our legal guidelines\, and for your own safety. \n\n\n\n8. FOLLOW US on Facebook\, Instagram\, LinkedIn and GroupMe to be notified about the upcoming events.
URL:https://projectfindingcalcutta.com/volunteer/dallas-st-basil/
LOCATION:St Basil Byzantine Church\, 1118 East Union Bower Road\, Irving\, Texas\, 75061\, United States
CATEGORIES:Dallas,DFW
END:VEVENT
END:VCALENDAR