BEGIN:VCALENDAR
VERSION:2.0
PRODID:-//Project Finding Calcutta - ECPv6.15.20//NONSGML v1.0//EN
CALSCALE:GREGORIAN
METHOD:PUBLISH
X-WR-CALNAME:Project Finding Calcutta
X-ORIGINAL-URL:https://projectfindingcalcutta.com
X-WR-CALDESC:Events for Project Finding Calcutta
REFRESH-INTERVAL;VALUE=DURATION:PT1H
X-Robots-Tag:noindex
X-PUBLISHED-TTL:PT1H
BEGIN:VTIMEZONE
TZID:America/Chicago
BEGIN:DAYLIGHT
TZOFFSETFROM:-0600
TZOFFSETTO:-0500
TZNAME:CDT
DTSTART:20240310T080000
END:DAYLIGHT
BEGIN:STANDARD
TZOFFSETFROM:-0500
TZOFFSETTO:-0600
TZNAME:CST
DTSTART:20241103T070000
END:STANDARD
BEGIN:DAYLIGHT
TZOFFSETFROM:-0600
TZOFFSETTO:-0500
TZNAME:CDT
DTSTART:20250309T080000
END:DAYLIGHT
BEGIN:STANDARD
TZOFFSETFROM:-0500
TZOFFSETTO:-0600
TZNAME:CST
DTSTART:20251102T070000
END:STANDARD
BEGIN:DAYLIGHT
TZOFFSETFROM:-0600
TZOFFSETTO:-0500
TZNAME:CDT
DTSTART:20260308T080000
END:DAYLIGHT
BEGIN:STANDARD
TZOFFSETFROM:-0500
TZOFFSETTO:-0600
TZNAME:CST
DTSTART:20261101T070000
END:STANDARD
END:VTIMEZONE
BEGIN:VEVENT
DTSTART;TZID=America/Chicago:20251025T090000
DTEND;TZID=America/Chicago:20251025T120000
DTSTAMP:20260423T201745
CREATED:20250227T220327Z
LAST-MODIFIED:20250402T051213Z
UID:11015-1761382800-1761393600@projectfindingcalcutta.com
SUMMARY:Dallas Volunteers @ UTD
DESCRIPTION:Would you like to make a difference? Are you looking for service opportunities? \n\n\n\nJoin us for a half day to serve the poorest of the poor in the spirit of Mother Teresa. We will begin with fellowship\, prayer\, and the orientation\, and then we separate into smaller groups to go comfort the elderly at nursing homes\, work at a community garden\, help the Missionaries of Charity sisters in assisting low income families or homeless pregnant women\, make lunch and serve at soup kitchens\, organize items at food pantries\, and/or feed the homeless on the streets. \n\n\n\nMost weeks\, we continue the fellowship by grabbing lunch together (optional) after serving. \n\n\n\nThis is a family friendly event\, so children of all ages are welcome. We encourage everyone to RSVP here\, so we can let the places of service know how many people to expect. Like Mother Teresa said\, “let us do something beautiful for God.” \n\n\n\nSPECIAL INSTRUCTIONS: \n\n\n\n1. LOCATION: Meet us at the Catholic Center. \n\n\n\n2. PROJECTS: The event begins at the location below but most of you will go to different service sites after the orientation\, so please don’t be late. \n\n\n\n3. NEW VOLUNTEERS: serving with us for the first-time\, please Register here before RSVPing to this event. Everyone must sign these waivers before volunteering. One Waiver per family is sufficient. \n\n\n\n4. GROUPS: Please send us a message before bringing 10+ volunteers from your group. \n\n\n\n5. MINORS: By serving with us\, everyone is agreeing to these terms and conditions (Liability Waiver). Everyone under 18 attending with a chaperone (without a parent) should print the Liability Waiver and have it signed by the parent BEFORE coming to the event\, and please present it to the Leader as soon as you arrive. \n\n\n\n6. DRESS CODE: Not everyone will serve soup from a kitchen or dig dirt for a garden\, but please dress (casual) to be able to work wherever the need maybe. \n\n\n\n7. PLEASE DO NOT go directly to the service locations\, out of respect for our collaborators\, our legal guidelines\, and for your own safety.
URL:https://projectfindingcalcutta.com/volunteer/dallas-utd-4/
LOCATION:UTD Catholic Center\, 2105 Waterview Pkwy\, Richardson\, Texas\, 75080\, United States
CATEGORIES:Dallas,DFW
ATTACH;FMTTYPE=image/jpeg:https://projectfindingcalcutta.com/wp-content/uploads/2025/02/UTD-.jpg
END:VEVENT
BEGIN:VEVENT
DTSTART;TZID=America/Chicago:20251025T123000
DTEND;TZID=America/Chicago:20251025T140000
DTSTAMP:20260423T201745
CREATED:20251014T043927Z
LAST-MODIFIED:20251025T124909Z
UID:12891-1761395400-1761400800@projectfindingcalcutta.com
SUMMARY:Dilexi Te Lecture Series - I Have Loved You
DESCRIPTION:School of Service: I THIRST(A Dilexi Te Lecture) \n\n\n\nThe School of Service is a collaborative initiative offering a deeper look into the Catholic Church’s Social Teachings. In 2025\, we are dealing with a new kind of poverty in a new world. Rapidly changing technology is shaping societies and changing lifestyles. \n\n\n\nProject Finding Calcutta is partnering with University of Dallas Campus Ministry to unpack Pope Leo’s first apostolic exhortation\, Dilexi Te. This brief and powerful document addresses different kinds of poverty and what our duties are as Christians. Come and be enlightened by the wisdom of the Church and what it means to quench Jesus’ thirst. \n\n\n\nThe event begins with fellowship over a light lunch\, followed by a presentation and a small group workshop. \n\n\n\nSPEAKER \n\n\n\n\nBr. Elijah Potter grew up in the western suburbs of Chicago and is an avid cinephile. After studying English Literature at Hillsdale College\, he taught at Great Hearts in San Antonio for four years before entering a diocesan seminary. Before joining the monastery\, an especially impactful summer spent with Mother Teresa’s Missionaries of Charity gave Br. Elijah a love for and desire to serve the poor. The novitiate allowed him to enter more deeply into prayer and to build fraternal bonds with his novice brothers. As a junior monk\, he is currently taking theology classes at the University of Dallas\, teaching catechism at St. James in Oak Cliff\, and working in the Abbey’s library. \n\n\n\n\nVENUE \n\n\n\nThe lecture will take place at Anselm Hall at University of Dallas. Please follow the signs or ask any student where Anselm Hall (Catholic Center) is. Spots are limited. Please let us know if you have to cancel for any reason\, so that we can offer that spot to somebody else.
URL:https://projectfindingcalcutta.com/volunteer/dilexi-te-lecture-series/
LOCATION:University of Dallas\, 1845 E Northgate Drive\, Irving\, TX\, 75062\, United States
CATEGORIES:Dallas,DFW,Fort Worth
ATTACH;FMTTYPE=image/jpeg:https://projectfindingcalcutta.com/wp-content/uploads/2025/10/PFC-School-of-Service.jpg
END:VEVENT
END:VCALENDAR