BEGIN:VCALENDAR
VERSION:2.0
PRODID:-//Project Finding Calcutta - ECPv6.15.20//NONSGML v1.0//EN
CALSCALE:GREGORIAN
METHOD:PUBLISH
X-ORIGINAL-URL:https://projectfindingcalcutta.com
X-WR-CALDESC:Events for Project Finding Calcutta
REFRESH-INTERVAL;VALUE=DURATION:PT1H
X-Robots-Tag:noindex
X-PUBLISHED-TTL:PT1H
BEGIN:VTIMEZONE
TZID:America/Chicago
BEGIN:DAYLIGHT
TZOFFSETFROM:-0600
TZOFFSETTO:-0500
TZNAME:CDT
DTSTART:20240310T080000
END:DAYLIGHT
BEGIN:STANDARD
TZOFFSETFROM:-0500
TZOFFSETTO:-0600
TZNAME:CST
DTSTART:20241103T070000
END:STANDARD
BEGIN:DAYLIGHT
TZOFFSETFROM:-0600
TZOFFSETTO:-0500
TZNAME:CDT
DTSTART:20250309T080000
END:DAYLIGHT
BEGIN:STANDARD
TZOFFSETFROM:-0500
TZOFFSETTO:-0600
TZNAME:CST
DTSTART:20251102T070000
END:STANDARD
BEGIN:DAYLIGHT
TZOFFSETFROM:-0600
TZOFFSETTO:-0500
TZNAME:CDT
DTSTART:20260308T080000
END:DAYLIGHT
BEGIN:STANDARD
TZOFFSETFROM:-0500
TZOFFSETTO:-0600
TZNAME:CST
DTSTART:20261101T070000
END:STANDARD
END:VTIMEZONE
BEGIN:VEVENT
DTSTART;TZID=America/Chicago:20251122T090000
DTEND;TZID=America/Chicago:20251122T120000
DTSTAMP:20260423T185454
CREATED:20251022T175613Z
LAST-MODIFIED:20260311T132413Z
UID:12957-1763802000-1763812800@projectfindingcalcutta.com
SUMMARY:Dallas Volunteers @ Mater Dei
DESCRIPTION:Would you like to make a difference? Are you looking for service opportunities? \n\n\n\nJoin us for a half day to serve the poorest of the poor in the spirit of Mother Teresa. We will begin with fellowship\, prayer\, and the orientation\, and then we separate into smaller groups to go comfort the elderly at nursing homes\, work at a community garden\, help the Missionaries of Charity sisters in assisting low income families or homeless pregnant women\, make lunch and serve at soup kitchens\, and/or feed the homeless on the streets. \n\n\n\nRight after serving\, you are welcome to join us for lunch (provided) and attend Dilexi Te (Pope Leo’s apostolic exhortation) Lecture Series. \n\n\n\nThis is a family friendly event\, so children of all ages are welcome. Service opportunities change every week based on the number of our volunteers and the needs of our community partners. We encourage everyone to RSVP here\, so we can prepare accordingly. Like Mother Teresa said\, “let us do something beautiful for God.” \n\n\n\nSPECIAL INSTRUCTIONS: \n\n\n\n1. LOCATION: Meet us in the Church parking lot. Please consider attending 8:30 a.m. Mass beforehand if you could. \n\n\n\n2. PROJECTS: The event begins at the location below but most of you will go to different service sites after the orientation\, so please don’t be late. \n\n\n\n3. NEW VOLUNTEERS: serving with us for the first-time\, please Register here before RSVPing to this event. Everyone must sign these waivers before volunteering. One Waiver per family is sufficient. \n\n\n\n4. GROUPS: Please send us a message before bringing 10+ volunteers from your group. Otherwise\, volunteering opportunity to your group is not guaranteed. \n\n\n\n5. MINORS: By serving with us\, everyone is agreeing to these terms and conditions (Liability Waiver). Everyone under 18 attending with a chaperone (and without a parent) should print the Liability Waiver and have it signed by the parent BEFORE coming to the event\, and please give it to the Leader as soon as you arrive. \n\n\n\n6. DRESS CODE: Not everyone will serve soup from a kitchen or dig dirt at a garden\, but please dress (casual) to be able to work wherever the need maybe. \n\n\n\n7. PLEASE DO NOT go directly to the service locations\, out of respect for our collaborators\, our legal guidelines\, and for your own safety.
URL:https://projectfindingcalcutta.com/volunteer/dallas-mater-dei-16/
LOCATION:Mater Dei Catholic Church\, 2030 East State Highway 356\, Irving\, TX\, 75060\, United States
CATEGORIES:Dallas,DFW
ATTACH;FMTTYPE=image/png:https://projectfindingcalcutta.com/wp-content/uploads/2023/04/PFC-Mater-Dei.png
END:VEVENT
BEGIN:VEVENT
DTSTART;TZID=America/Chicago:20251122T123000
DTEND;TZID=America/Chicago:20251122T140000
DTSTAMP:20260423T185454
CREATED:20251108T060345Z
LAST-MODIFIED:20260311T132424Z
UID:13019-1763814600-1763820000@projectfindingcalcutta.com
SUMMARY:Dilexi Te Lecture Series – I Have Loved You
DESCRIPTION:School of Service: A CRY OF THE POOR(A Dilexi Te Lecture) \n\n\n\nThe School of Service is a collaborative initiative offering a deeper look into the Catholic Church’s Social Teachings. In 2025\, we are dealing with a new kind of poverty in a new world. Rapidly changing technology is shaping societies and changing lifestyles. \n\n\n\nProject Finding Calcutta is partnering with University of Dallas Campus Ministry to unpack Pope Leo’s first apostolic exhortation\, Dilexi Te. This brief and powerful document addresses different kinds of poverty and what our duties are as Christians. Come and be enlightened by the wisdom of the Church and what it means to quench Jesus’ thirst. \n\n\n\nThe event begins with fellowship over a light lunch\, followed by a presentation and a small group workshop. \n\n\n\nSPEAKER \n\n\n\n\nLuis Gonzalez is the CEO of the Society of St. Vincent de Paul North Texas\, having transitioned from a successful career in finance to nonprofit work driven by his faith. He has extensive experience in various roles\, including nearly 25 years at Allstate Insurance\, and holds an MBA from the University of Dallas. \n\n\n\n\nVENUE \n\n\n\nThe lecture will take place at Anselm Hall at University of Dallas. Please follow the signs or ask any student where Anselm Hall (Catholic Center) is. Spots are limited. Please let us know if you have to cancel for any reason\, so that we can offer that spot to somebody else.
URL:https://projectfindingcalcutta.com/volunteer/dilexi-te-lecture-series-i-have-loved-you/
LOCATION:University of Dallas\, 1845 E Northgate Drive\, Irving\, TX\, 75062\, United States
CATEGORIES:Dallas,DFW,Fort Worth
ATTACH;FMTTYPE=image/jpeg:https://projectfindingcalcutta.com/wp-content/uploads/2025/11/School-of-Service-Dilexi-Te-Luis-Gonzalez.jpg
END:VEVENT
END:VCALENDAR