BEGIN:VCALENDAR
VERSION:2.0
PRODID:-//Project Finding Calcutta - ECPv6.15.20//NONSGML v1.0//EN
CALSCALE:GREGORIAN
METHOD:PUBLISH
X-WR-CALNAME:Project Finding Calcutta
X-ORIGINAL-URL:https://projectfindingcalcutta.com
X-WR-CALDESC:Events for Project Finding Calcutta
REFRESH-INTERVAL;VALUE=DURATION:PT1H
X-Robots-Tag:noindex
X-PUBLISHED-TTL:PT1H
BEGIN:VTIMEZONE
TZID:America/Chicago
BEGIN:DAYLIGHT
TZOFFSETFROM:-0600
TZOFFSETTO:-0500
TZNAME:CDT
DTSTART:20240310T080000
END:DAYLIGHT
BEGIN:STANDARD
TZOFFSETFROM:-0500
TZOFFSETTO:-0600
TZNAME:CST
DTSTART:20241103T070000
END:STANDARD
BEGIN:DAYLIGHT
TZOFFSETFROM:-0600
TZOFFSETTO:-0500
TZNAME:CDT
DTSTART:20250309T080000
END:DAYLIGHT
BEGIN:STANDARD
TZOFFSETFROM:-0500
TZOFFSETTO:-0600
TZNAME:CST
DTSTART:20251102T070000
END:STANDARD
BEGIN:DAYLIGHT
TZOFFSETFROM:-0600
TZOFFSETTO:-0500
TZNAME:CDT
DTSTART:20260308T080000
END:DAYLIGHT
BEGIN:STANDARD
TZOFFSETFROM:-0500
TZOFFSETTO:-0600
TZNAME:CST
DTSTART:20261101T070000
END:STANDARD
END:VTIMEZONE
BEGIN:VEVENT
DTSTART;TZID=America/Chicago:20251129T090000
DTEND;TZID=America/Chicago:20251129T130000
DTSTAMP:20260423T185338
CREATED:20251113T185006Z
LAST-MODIFIED:20251121T145212Z
UID:13048-1764406800-1764421200@projectfindingcalcutta.com
SUMMARY:DFW Friendsgiving on the Streets
DESCRIPTION:Join us for a half day to serve the poorest of the poor in the spirit of Mother Teresa. We will begin with fellowship\, prayer\, and the orientation at the MCs\, and then we go downtown to feed the homeless on the streets. \n\n\n\nYou are encouraged to prepare/buy food\, package it individually\, and bring it in personal coolers to share with love. Those who cannot bring any food\, we will provide water and chips to hand out. Everyone can engage in dialog and prayer with the poor on the streets. \n\n\n\nPLEASE PACK IN SUCH A WAY THAT THE FOOD IS READY TO BE DISTRIBUTED INDIVIDUALLY. We WILL NOT set up tables to serve buffet style. We will not wait for the homeless to come to our tables. We go to them on the street corners as a group. \n\n\n\nThis is a family friendly event\, so children of all ages are welcome. Service opportunities change every week based on the number of our volunteers and the needs of our community partners. We encourage everyone to RSVP here\, so we can prepare accordingly. Like Mother Teresa said\, “let us do something beautiful for God.” \n\n\n\nSPECIAL INSTRUCTIONS: \n\n\n\n1. LOCATION: Please meet us under the carport\, between Jesus and Mary. \n\n\n\n2. PROJECTS: The event begins at the location below but most of you will go to different service sites after the orientation\, so please don’t be late. \n\n\n\n3. NEW VOLUNTEERS: serving with us for the first-time\, please Register here before RSVPing to this event. Everyone must sign these waivers before volunteering. One Waiver per family is sufficient. \n\n\n\n4. GROUPS: Please send us a message before bringing 10+ volunteers from your group. Otherwise\, volunteering opportunity to your group is not guaranteed. \n\n\n\n5. MINORS: By serving with us\, everyone is agreeing to these terms and conditions (Liability Waiver). Everyone under 18 attending with a chaperone (and without a parent) should print the Liability Waiver and have it signed by the parent BEFORE coming to the event\, and please give it to the Leader as soon as you arrive. \n\n\n\n6. DRESS CODE: Not everyone will serve soup from a kitchen or dig dirt at a garden\, but please dress (casual) to be able to work wherever the need maybe. \n\n\n\n7. PLEASE DO NOT go directly to the service locations\, out of respect for our collaborators\, our legal guidelines\, and for your own safety.
URL:https://projectfindingcalcutta.com/volunteer/dfw-missionaries-of-charity-17/
LOCATION:Missionaries of Charity\, 2727 Harlandale Ave\, Dallas\, TX\, 75216\, United States
CATEGORIES:Dallas,DFW,Fort Worth
ATTACH;FMTTYPE=image/jpeg:https://projectfindingcalcutta.com/wp-content/uploads/2025/11/Friendsgiving-2025.jpg
END:VEVENT
END:VCALENDAR