BEGIN:VCALENDAR
VERSION:2.0
PRODID:-//Project Finding Calcutta - ECPv6.15.20//NONSGML v1.0//EN
CALSCALE:GREGORIAN
METHOD:PUBLISH
X-WR-CALNAME:Project Finding Calcutta
X-ORIGINAL-URL:https://projectfindingcalcutta.com
X-WR-CALDESC:Events for Project Finding Calcutta
REFRESH-INTERVAL;VALUE=DURATION:PT1H
X-Robots-Tag:noindex
X-PUBLISHED-TTL:PT1H
BEGIN:VTIMEZONE
TZID:America/Chicago
BEGIN:DAYLIGHT
TZOFFSETFROM:-0600
TZOFFSETTO:-0500
TZNAME:CDT
DTSTART:20250309T080000
END:DAYLIGHT
BEGIN:STANDARD
TZOFFSETFROM:-0500
TZOFFSETTO:-0600
TZNAME:CST
DTSTART:20251102T070000
END:STANDARD
BEGIN:DAYLIGHT
TZOFFSETFROM:-0600
TZOFFSETTO:-0500
TZNAME:CDT
DTSTART:20260308T080000
END:DAYLIGHT
BEGIN:STANDARD
TZOFFSETFROM:-0500
TZOFFSETTO:-0600
TZNAME:CST
DTSTART:20261101T070000
END:STANDARD
BEGIN:DAYLIGHT
TZOFFSETFROM:-0600
TZOFFSETTO:-0500
TZNAME:CDT
DTSTART:20270314T080000
END:DAYLIGHT
BEGIN:STANDARD
TZOFFSETFROM:-0500
TZOFFSETTO:-0600
TZNAME:CST
DTSTART:20271107T070000
END:STANDARD
END:VTIMEZONE
BEGIN:VEVENT
DTSTART;TZID=America/Chicago:20260103T123000
DTEND;TZID=America/Chicago:20260103T133000
DTSTAMP:20260423T155444
CREATED:20251231T184255Z
LAST-MODIFIED:20260311T132457Z
UID:13323-1767443400-1767447000@projectfindingcalcutta.com
SUMMARY:SEEK DFW Volunteers @ Civic Garden
DESCRIPTION:Would you like to make a difference? Are you looking for service opportunities? \n\n\n\nJoin us for an hour to serve the poorest of the poor in the spirit of Mother Teresa. We will meet at the Civic Garden to begin with fellowship\, prayer\, and the orientation\, and then feed the homeless on the streets and to visit with them. SEEK students will meet at the PFC booth at Noon to be shuttled (Gaylord <=> Dallas downtown). \n\n\n\nPlease RSVP below. Thank you. Like Mother Teresa said\, “let us do something beautiful for God.” \n\n\n\nSPECIAL INSTRUCTIONS: \n\n\n\n1. LOCATION: Meet us at Civic Garden\, Dallas downtown. SEEK students will be shuttled from the PFC booth. For others\, when you reach downtown\, the street metered parking is the least expensive. Bank of America Plaza: South Lot is a good second option. \n\n\n\n2. PROJECTS: The event begins at the location below but most of you will go to different service sites after the orientation\, so please don’t be late. \n\n\n\n3. NEW VOLUNTEERS: serving with us for the first-time\, please Register here before RSVPing to this event. Everyone must sign these waivers before volunteering. One Waiver per family is sufficient. \n\n\n\n4. GROUPS: Please send us a message before bringing 10+ volunteers from your ministry/parish/school/office/community. \n\n\n\n5. MINORS: By serving with us\, everyone is agreeing to these terms and conditions (Liability Waiver). Everyone under 18 attending with a chaperone (without a parent) should print the Liability Waiver and have it signed by the parent BEFORE coming to the event\, and please present it to the Leader as soon as you arrive. \n\n\n\n6. DRESS CODE: Not everyone will serve food at a soup kitchen or dig a garden\, but please dress (casual) to be able to work wherever the need maybe. \n\n\n\n7. PLEASE DO NOT go directly to the service locations\, out of respect for our collaborators\, our legal guidelines\, and for your own safety.
URL:https://projectfindingcalcutta.com/volunteer/dfw-civic-garden/
LOCATION:Civic Garden\, 1014 Main St\, Dallas\, Texas\, 75202\, United States
CATEGORIES:Dallas,DFW,Fort Worth
ATTACH;FMTTYPE=image/jpeg:https://projectfindingcalcutta.com/wp-content/uploads/2023/10/IMG-20210811-WA0004.jpg
END:VEVENT
END:VCALENDAR