BEGIN:VCALENDAR
VERSION:2.0
PRODID:-//Project Finding Calcutta - ECPv6.15.20//NONSGML v1.0//EN
CALSCALE:GREGORIAN
METHOD:PUBLISH
X-WR-CALNAME:Project Finding Calcutta
X-ORIGINAL-URL:https://projectfindingcalcutta.com
X-WR-CALDESC:Events for Project Finding Calcutta
REFRESH-INTERVAL;VALUE=DURATION:PT1H
X-Robots-Tag:noindex
X-PUBLISHED-TTL:PT1H
BEGIN:VTIMEZONE
TZID:America/Chicago
BEGIN:DAYLIGHT
TZOFFSETFROM:-0600
TZOFFSETTO:-0500
TZNAME:CDT
DTSTART:20250309T080000
END:DAYLIGHT
BEGIN:STANDARD
TZOFFSETFROM:-0500
TZOFFSETTO:-0600
TZNAME:CST
DTSTART:20251102T070000
END:STANDARD
BEGIN:DAYLIGHT
TZOFFSETFROM:-0600
TZOFFSETTO:-0500
TZNAME:CDT
DTSTART:20260308T080000
END:DAYLIGHT
BEGIN:STANDARD
TZOFFSETFROM:-0500
TZOFFSETTO:-0600
TZNAME:CST
DTSTART:20261101T070000
END:STANDARD
BEGIN:DAYLIGHT
TZOFFSETFROM:-0600
TZOFFSETTO:-0500
TZNAME:CDT
DTSTART:20270314T080000
END:DAYLIGHT
BEGIN:STANDARD
TZOFFSETFROM:-0500
TZOFFSETTO:-0600
TZNAME:CST
DTSTART:20271107T070000
END:STANDARD
END:VTIMEZONE
BEGIN:VEVENT
DTSTART;TZID=America/Chicago:20260418T090000
DTEND;TZID=America/Chicago:20260418T120000
DTSTAMP:20260423T113214
CREATED:20260401T201058Z
LAST-MODIFIED:20260402T151552Z
UID:14235-1776502800-1776513600@projectfindingcalcutta.com
SUMMARY:Charity Run and Serve
DESCRIPTION:“Yesterday is gone. Tomorrow has not yet come. We have only Today. Let us begin.” – MOTHER TERESA \n\n\n\nProject Finding Calcutta is excited to continue the tradition of the Annual Charity 5K Run. We want this event to be both fun and meaningful. The run will start at the same time for everyone\, but you will be able to track your time (honor system)\, pausing to interact with the homeless along the track. We will give you snacks\, rosaries\, and water to run with\, and to be able to hand out to the poor. \n\n\n\nSpots are limited. We will accept the first 99 paid registrations. In order to participate\, you need RSVP below. \n\n\n\nWe meet at the Dallas City Hall and after the check-in\, instructions\, and prayer we run to the Cathedral. We are glad you want to be a part of it.
URL:https://projectfindingcalcutta.com/volunteer/5k-charity-run-and-serve/
LOCATION:Dallas City Hall\, 1500 Marilla St\, Dallas\, Texas\, 75201\, United States
CATEGORIES:Dallas,DFW,Fort Worth
ATTACH;FMTTYPE=image/png:https://projectfindingcalcutta.com/wp-content/uploads/2026/04/5K-RUN-SERVE-2026.png
END:VEVENT
BEGIN:VEVENT
DTSTART;TZID=America/Chicago:20260418T150000
DTEND;TZID=America/Chicago:20260418T170000
DTSTAMP:20260423T113214
CREATED:20260311T145545Z
LAST-MODIFIED:20260402T152025Z
UID:14006-1776524400-1776531600@projectfindingcalcutta.com
SUMMARY:DFW Volunteers @ Nursing Homes
DESCRIPTION:Would you like to make a difference? Are you looking for service opportunities? \n\n\n\nJoin us for a half day to serve the poorest of the poor in the spirit of Mother Teresa. She said\, stay where you are… find your own Calcutta… the poor\, sick\, suffering and the lonely are everywhere… if you have the eyes to see. We will begin with a brief orientation at the location below and then separate into smaller groups to go comfort the sick\, suffering\, and the lonely at local nursing homes. \n\n\n\nMost weeks\, we continue the fellowship by grabbing dinner together (optional) after serving. \n\n\n\nThis is a family friendly event\, so children of all ages are welcome. Everyone that is planning to attend must RSVP here\, so we can let the places of service know how many people to expect. Like Mother Teresa said\, let us do “small things with great love.” \n\n\n\nINSTRUCTIONS:1. If this is your first time volunteering with us\, in addition to RSVPing below please also Register here (to sign the waiver). \n\n\n\n2. Meet us at the UD Tower. \n\n\n\n3. This is where it begins but you will go to different location(s) after the fellowship and orientation\, so don’t be late. \n\n\n\n4. There is no dress code to visit nursing homes. However\, if you are sick\, it is best that you do not participate this time. \n\n\n\n5. By serving with us\, you are agreeing to these terms and conditions (Liability Waiver). Everyone under 18 attending without a parent but with a chaperone should print the Liability Waiver and have it signed by the parent before coming to the event. \n\n\n\n6. Please do not go directly to the service locations\, out of respect for our collaborators\, our legal guidelines\, and your own safety. \n\n\n\n7. Please like us on Facebook\, follow us on Instagram\, and join GroupMe to be notified about upcoming events.
URL:https://projectfindingcalcutta.com/volunteer/dfw-nursing-homes-5/
LOCATION:University of Dallas\, 1845 E Northgate Drive\, Irving\, TX\, 75062\, United States
CATEGORIES:Dallas,DFW,Fort Worth
ATTACH;FMTTYPE=image/jpeg:https://projectfindingcalcutta.com/wp-content/uploads/2025/09/Senior-Friendships.jpeg
END:VEVENT
END:VCALENDAR